BEGIN:VCALENDAR
VERSION:2.0
PRODID:-//Friends of the Heysen Trail - ECPv6.15.20//NONSGML v1.0//EN
CALSCALE:GREGORIAN
METHOD:PUBLISH
X-WR-CALNAME:Friends of the Heysen Trail
X-ORIGINAL-URL:https://dev2.heysentrail.asn.au
X-WR-CALDESC:Events for Friends of the Heysen Trail
REFRESH-INTERVAL;VALUE=DURATION:PT1H
X-Robots-Tag:noindex
X-PUBLISHED-TTL:PT1H
BEGIN:VTIMEZONE
TZID:Australia/Adelaide
BEGIN:STANDARD
TZOFFSETFROM:+1030
TZOFFSETTO:+0930
TZNAME:ACST
DTSTART:20220402T163000
END:STANDARD
BEGIN:DAYLIGHT
TZOFFSETFROM:+0930
TZOFFSETTO:+1030
TZNAME:ACDT
DTSTART:20221001T163000
END:DAYLIGHT
BEGIN:STANDARD
TZOFFSETFROM:+1030
TZOFFSETTO:+0930
TZNAME:ACST
DTSTART:20230401T163000
END:STANDARD
BEGIN:DAYLIGHT
TZOFFSETFROM:+0930
TZOFFSETTO:+1030
TZNAME:ACDT
DTSTART:20230930T163000
END:DAYLIGHT
BEGIN:STANDARD
TZOFFSETFROM:+1030
TZOFFSETTO:+0930
TZNAME:ACST
DTSTART:20240406T163000
END:STANDARD
BEGIN:DAYLIGHT
TZOFFSETFROM:+0930
TZOFFSETTO:+1030
TZNAME:ACDT
DTSTART:20241005T163000
END:DAYLIGHT
END:VTIMEZONE
BEGIN:VEVENT
DTSTART;VALUE=DATE:20230201
DTEND;VALUE=DATE:20230202
DTSTAMP:20260420T004212
CREATED:20221203T031454Z
LAST-MODIFIED:20230128T202928Z
UID:10005987-1675209600-1675295999@dev2.heysentrail.asn.au
SUMMARY:Mystery Walk-Eastern Side of Morialta.
DESCRIPTION:A relatively comfortable walk along some less traveled trails in the eastern section of Morialta. There are a couple of short sharp climbs\, which can be tricky under foot\, All in all a walk to ensure you look forward to dinner afterwards.\n\nBIOSECURITY MEASURES – Please ensure you thoroughly clean your footwear\, clothing\, walking poles and other equipment before and after each walk to remove all seeds\, dirt and other debris. Removed seeds should be bagged and disposed in a ‘to landfill’ garbage bin.
URL:https://dev2.heysentrail.asn.au/walking-the-heysen-trail/walk-the-trail-with-friends/walk-calendar/mystery-walk-2022/
CATEGORIES:Summer Walks
END:VEVENT
BEGIN:VEVENT
DTSTART;VALUE=DATE:20230208
DTEND;VALUE=DATE:20230209
DTSTAMP:20260420T004212
CREATED:20230123T213055Z
LAST-MODIFIED:20230124T091151Z
UID:10005276-1675814400-1675900799@dev2.heysentrail.asn.au
SUMMARY:Christies to  O'Sullivan Beach and return
DESCRIPTION:A beach walk from Christies Beach to O’Sullivan Beach Boat ramp and back. The walk from Christies Creek outlet (UBD Map 185\, F6) is a leash free area for dogs\, and don’t our 4 legged friends love it! So bring along your dogs if they are capable of walking 5 km with you.\n\nShoes/sandals/thongs are not essential. We will be walking along the beach for 2.5 km each way\, 5 km in total.  Bring your cossies/bathers if you would like to go for a swim after the walk.  High tide is at 7.33 pm on this day. We may have to take a short detour to the path on the Esplanade to get around some rocks at the Christies Beach Sailing Club/Surf Lifesaving Club boat ramp if the tide is in too far.\n\nBIOSECURITY MEASURES – Please ensure you thoroughly clean your footwear\, clothing\, walking poles and other equipment before and after each walk to remove all seeds\, dirt and other debris. Removed seeds should be bagged and disposed in a ‘to landfill’ garbage bin.
URL:https://dev2.heysentrail.asn.au/walking-the-heysen-trail/walk-the-trail-with-friends/walk-calendar/christies-to-osullivan-beach-2023/
CATEGORIES:Summer Walks
ATTACH;FMTTYPE=image/jpeg:https://dev2.heysentrail.asn.au/wp-content/uploads/2023/01/20230122_154229-scaled.jpg
END:VEVENT
BEGIN:VEVENT
DTSTART;VALUE=DATE:20230212
DTEND;VALUE=DATE:20230213
DTSTAMP:20260420T004212
CREATED:20220808T065549Z
LAST-MODIFIED:20221213T023047Z
UID:10005915-1676160000-1676246399@dev2.heysentrail.asn.au
SUMMARY:Head 4 The Hills 1
DESCRIPTION:WALK 1 is Sunday 12th February \nThis is your opportunity to experience our beautiful Torrens Linear Park.\n\nHenly beach to Thebarton 10+ klms\n\nThis walk is the one that has a few sections that most closely resemble the fantastic dirt trails that we usually walk on out in the bush.\n\nThe day I did a test walk\, frogs croaking and bird life abounded.\n\nAt the finish of the walk we have a 20 approx\, minute walk to the bus stop on Henley Beach Rd to catch a bus back to Henley South.\n\nThe good news is that there is a cafe half way along our walk out\, that is open on a Sunday.\n\n \n\nBIOSECURITY MEASURES – Please ensure you thoroughly clean your footwear\, clothing\, walking poles and other equipment before and after each walk to remove all seeds\, dirt and other debris. Removed seeds should be bagged and disposed in a ‘to landfill’ garbage bin.
URL:https://dev2.heysentrail.asn.au/walking-the-heysen-trail/walk-the-trail-with-friends/walk-calendar/head-4-the-hills-1-2022/
CATEGORIES:Trail Starter
END:VEVENT
BEGIN:VEVENT
DTSTART;TZID=Australia/Adelaide:20230215T173000
DTEND;TZID=Australia/Adelaide:20230215T193000
DTSTAMP:20260420T004212
CREATED:20230201T235449Z
LAST-MODIFIED:20230201T235452Z
UID:10006002-1676482200-1676489400@dev2.heysentrail.asn.au
SUMMARY:FOHT Council Meeting
DESCRIPTION:Friends of Heysen Trail Council Meeting
URL:https://dev2.heysentrail.asn.au/walking-the-heysen-trail/walk-the-trail-with-friends/walk-calendar/foht-council-meeting-2023/
CATEGORIES:Other
END:VEVENT
BEGIN:VEVENT
DTSTART;TZID=Australia/Adelaide:20230215T180000
DTEND;TZID=Australia/Adelaide:20230215T200000
DTSTAMP:20260420T004212
CREATED:20221203T031705Z
LAST-MODIFIED:20230207T015426Z
UID:10005988-1676484000-1676491200@dev2.heysentrail.asn.au
SUMMARY:Mt Barker Wetlands
DESCRIPTION:The walk will take us from the township of Mount Barker to the Laratinga Wetlands … around the wetlands … and back again.\n\nFor those interested in birds the wetlands will provide an opportunity to see quite a few.\n\nAfter the walk a dinner will be held at the Barker Hotel\, near the meeting place.
URL:https://dev2.heysentrail.asn.au/walking-the-heysen-trail/walk-the-trail-with-friends/walk-calendar/mt-barker-wetlands-2022/
CATEGORIES:Summer Walks
END:VEVENT
BEGIN:VEVENT
DTSTART;VALUE=DATE:20230216
DTEND;VALUE=DATE:20230217
DTSTAMP:20260420T004212
CREATED:20221006T040428Z
LAST-MODIFIED:20230214T063844Z
UID:10005957-1676505600-1676591999@dev2.heysentrail.asn.au
SUMMARY:Belair
DESCRIPTION:Details to come.\n\nA loop walk within the delightful Belair National Park that includes a couple of hills\, to help with your fitness for the forthcoming walking season\, and some sections of rocky track. The walk will not going near any of the Public Toilet facilties within the park.\n\nThere will be a short morning tea break during the walk so please bring some snacks & a drink.\n\nBIOSECURITY MEASURES – Please ensure you thoroughly clean your footwear\, clothing\, walking poles and other equipment before and after each walk to remove all seeds\, dirt and other debris. Removed seeds should be bagged and disposed in a ‘to landfill’ garbage bin.
URL:https://dev2.heysentrail.asn.au/walking-the-heysen-trail/walk-the-trail-with-friends/walk-calendar/belair-2023-2/
CATEGORIES:Trail Starter
END:VEVENT
BEGIN:VEVENT
DTSTART;VALUE=DATE:20230219
DTEND;VALUE=DATE:20230220
DTSTAMP:20260420T004212
CREATED:20230127T023022Z
LAST-MODIFIED:20230212T204045Z
UID:10005277-1676764800-1676851199@dev2.heysentrail.asn.au
SUMMARY:Sturt River
DESCRIPTION:This walk will have an early 7am start\, because of the time of year\, and it will be very much weather dependent. \nPlease check the Heysen hot weather policy. (I will also message if we cancel)\n\n \n\nI’ve been in that Gorge during winter and it is always warm and humid in there\, so it’s an early start and temperature dependent.\n\nWe will walk approximately 7.5 klms upriver this includes 9 river crossings\, a side trip to the top of the Sturt dam\, then onto the 9th crossing.\n\nSo a total of 15klms and a possible 18 river crossings.\n\nWear long Gaiters & long trousers if you have them\, last time I was there the undergrowth was quite thick. Hiking poles will also assist you.\n\nDrinking water\, pus a few snacks are all you will need.\n\n \n\n \n\nBIOSECURITY MEASURES – Please ensure you thoroughly clean your footwear\, clothing\, walking poles and other equipment before and after each walk to remove all seeds\, dirt and other debris. Removed seeds should be bagged and disposed in a ‘to landfill’ garbage bin.
URL:https://dev2.heysentrail.asn.au/walking-the-heysen-trail/walk-the-trail-with-friends/walk-calendar/sturt-river-2023/
CATEGORIES:Trail Walker
END:VEVENT
BEGIN:VEVENT
DTSTART;TZID=Australia/Adelaide:20230221T080000
DTEND;TZID=Australia/Adelaide:20230221T100000
DTSTAMP:20260420T004212
CREATED:20221006T034633Z
LAST-MODIFIED:20230220T083005Z
UID:10005953-1676966400-1676973600@dev2.heysentrail.asn.au
SUMMARY:Pt Noarlunga: River & Beach Wander
DESCRIPTION:MORNING wander through the local area of Port Noarlunga before following the lower reaches of the Onkaparinga River\, crossing a footbridge and through dunes to the river mouth then concluding with a stroll along the beach. Approx 6km subject to weather.\n\nPlease ensure you bring water\, hat and sunscreen. Bathers & towel may also be useful to cool down at the end. There are coffee shops and a couple of local art galleries if that is of interest.\n\nBIOSECURITY MEASURES – Please ensure you thoroughly clean your footwear\, clothing\, walking poles and other equipment before and after each walk to remove all seeds\, dirt and other debris. Removed seeds should be bagged and disposed in a ‘to landfill’ garbage bin.
URL:https://dev2.heysentrail.asn.au/walking-the-heysen-trail/walk-the-trail-with-friends/walk-calendar/pt-noarlunga-2022/
CATEGORIES:Summer Walks
END:VEVENT
BEGIN:VEVENT
DTSTART;VALUE=DATE:20230222
DTEND;VALUE=DATE:20230223
DTSTAMP:20260420T004212
CREATED:20221130T013606Z
LAST-MODIFIED:20230221T052644Z
UID:10005268-1677024000-1677110399@dev2.heysentrail.asn.au
SUMMARY:Happy Valley Reservoir
DESCRIPTION:If you haven’t yet had a look at the Happy Valley Reservoir\, this will be a great opportunity.  This walk will focus on the east side of the dam and be mostly under tree cover\, with lovely views of the Happy Valley reservoir.\n\n \n\nBIOSECURITY MEASURES – Please ensure you thoroughly clean your footwear\, clothing\, walking poles and other equipment before and after each walk to remove all seeds\, dirt and other debris. Removed seeds should be bagged and disposed in a ‘to landfill’ garbage bin.
URL:https://dev2.heysentrail.asn.au/walking-the-heysen-trail/walk-the-trail-with-friends/walk-calendar/shepherds-hill-rec-park-2023/
CATEGORIES:Summer Walks
END:VEVENT
END:VCALENDAR