BEGIN:VCALENDAR
VERSION:2.0
PRODID:-//Friends of the Heysen Trail - ECPv6.15.20//NONSGML v1.0//EN
CALSCALE:GREGORIAN
METHOD:PUBLISH
X-ORIGINAL-URL:https://dev2.heysentrail.asn.au
X-WR-CALDESC:Events for Friends of the Heysen Trail
REFRESH-INTERVAL;VALUE=DURATION:PT1H
X-Robots-Tag:noindex
X-PUBLISHED-TTL:PT1H
BEGIN:VTIMEZONE
TZID:Australia/Adelaide
BEGIN:STANDARD
TZOFFSETFROM:+1030
TZOFFSETTO:+0930
TZNAME:ACST
DTSTART:20220402T163000
END:STANDARD
BEGIN:DAYLIGHT
TZOFFSETFROM:+0930
TZOFFSETTO:+1030
TZNAME:ACDT
DTSTART:20221001T163000
END:DAYLIGHT
BEGIN:STANDARD
TZOFFSETFROM:+1030
TZOFFSETTO:+0930
TZNAME:ACST
DTSTART:20230401T163000
END:STANDARD
BEGIN:DAYLIGHT
TZOFFSETFROM:+0930
TZOFFSETTO:+1030
TZNAME:ACDT
DTSTART:20230930T163000
END:DAYLIGHT
BEGIN:STANDARD
TZOFFSETFROM:+1030
TZOFFSETTO:+0930
TZNAME:ACST
DTSTART:20240406T163000
END:STANDARD
BEGIN:DAYLIGHT
TZOFFSETFROM:+0930
TZOFFSETTO:+1030
TZNAME:ACDT
DTSTART:20241005T163000
END:DAYLIGHT
END:VTIMEZONE
BEGIN:VEVENT
DTSTART;VALUE=DATE:20230104
DTEND;VALUE=DATE:20230105
DTSTAMP:20260420T020940
CREATED:20221004T015830Z
LAST-MODIFIED:20230101T111748Z
UID:10005950-1672790400-1672876799@dev2.heysentrail.asn.au
SUMMARY:Cobbler Creek
DESCRIPTION:Join us for a twilight walk around Cobbler Creek Reserve &  Recreation Park. The walk looks at some of the historic parts of the park and reserve with ruins\, bridges and the old well. There are some up and down sections and a couple of hills.\n\nDue to new year and length of walk\, there will not be an organised meal after this walk\, instead we will have a snack break on the walk.\n\nPlease comply with all COVID-19 practices.\n\nBIOSECURITY MEASURES – Please ensure you thoroughly clean your footwear\, clothing\, walking poles and other equipment before and after each walk to remove all seeds\, dirt and other debris. Removed seeds should be bagged and disposed in a ‘to landfill’ garbage bin.
URL:https://dev2.heysentrail.asn.au/walking-the-heysen-trail/walk-the-trail-with-friends/walk-calendar/cobbler-creek-2023/
CATEGORIES:Summer Walks
END:VEVENT
BEGIN:VEVENT
DTSTART;TZID=Australia/Adelaide:20230111T180000
DTEND;TZID=Australia/Adelaide:20230111T200000
DTSTAMP:20260420T020940
CREATED:20221203T031232Z
LAST-MODIFIED:20221216T041258Z
UID:10005986-1673460000-1673467200@dev2.heysentrail.asn.au
SUMMARY:Wild Dog Glen
DESCRIPTION:A walk into the hills above Mitcham.\n\nSteep and challenging in parts (Widely regarded as the hardest of the summer twilight walks)\n\nBIOSECURITY MEASURES – Please ensure you thoroughly clean your footwear\, clothing\, walking poles and other equipment before and after each walk to remove all seeds\, dirt and other debris. Removed seeds should be bagged and disposed in a ‘to landfill’ garbage bin.
URL:https://dev2.heysentrail.asn.au/walking-the-heysen-trail/walk-the-trail-with-friends/walk-calendar/wild-dog-glen-2023/
CATEGORIES:Summer Walks
END:VEVENT
BEGIN:VEVENT
DTSTART;VALUE=DATE:20230119
DTEND;VALUE=DATE:20230120
DTSTAMP:20260420T020940
CREATED:20221006T040212Z
LAST-MODIFIED:20221108T064901Z
UID:10005956-1674086400-1674172799@dev2.heysentrail.asn.au
SUMMARY:Burnside
DESCRIPTION:Details to come.\n\nA comparatively comfortable loop walk starting from the entrance to Brock Reserve on Dashwood Road following the Pioneer Womens Trail up past the Glen Osmond Golf Course prior to taking a detour off the Trail rejoining the Trail further up towards Eagle on the Hill to then return back to near the golf course before crossing over into Themeda Reserve for a pleasant descent adjacent to Hayward Drive. After the second crossing of Hayward Drive there is a short sharp climb back into Mount Osmond Reserve up the “Zig-Zag for the return down to the cars.\n\nThis is not an arduous walk but the descent in Themeda Reserve can be tricky if wet.\n\n.\n\nBIOSECURITY MEASURES – Please ensure you thoroughly clean your footwear\, clothing\, walking poles and other equipment before and after each walk to remove all seeds\, dirt and other debris. Removed seeds should be bagged and disposed in a ‘to landfill’ garbage bin.
URL:https://dev2.heysentrail.asn.au/walking-the-heysen-trail/walk-the-trail-with-friends/walk-calendar/burnside-2022/
CATEGORIES:Trail Starter
END:VEVENT
BEGIN:VEVENT
DTSTART;TZID=Australia/Adelaide:20230125T180000
DTEND;TZID=Australia/Adelaide:20230125T203000
DTSTAMP:20260420T020940
CREATED:20220808T065315Z
LAST-MODIFIED:20221204T051715Z
UID:10005914-1674669600-1674678600@dev2.heysentrail.asn.au
SUMMARY:Semaphore South
DESCRIPTION:Well Christmas and the New Year frivolities will be over.\n\nSo now is the time to start walking again.\n\n \n\nThis 9 -10klm walk takes in some foreshore reserves plus a section of the lake at West Lakes before hitting a sandy beach\, then walking the Tennyson dunes.\n\nThere is time to visit a beautiful lookout with hills and ocean views.\n\nAll this and still time to catch the Semaphore road cafes before they close.\n\nBIOSECURITY MEASURES – Please ensure you thoroughly clean your footwear\, clothing\, walking poles and other equipment before and after each walk to remove all seeds\, dirt and other debris. Removed seeds should be bagged and disposed in a ‘to landfill’ garbage bin.
URL:https://dev2.heysentrail.asn.au/walking-the-heysen-trail/walk-the-trail-with-friends/walk-calendar/semaphore-south-2022/
CATEGORIES:Summer Walks
END:VEVENT
END:VCALENDAR