BEGIN:VCALENDAR
VERSION:2.0
PRODID:-//Friends of the Heysen Trail - ECPv6.15.20//NONSGML v1.0//EN
CALSCALE:GREGORIAN
METHOD:PUBLISH
X-WR-CALNAME:Friends of the Heysen Trail
X-ORIGINAL-URL:https://dev2.heysentrail.asn.au
X-WR-CALDESC:Events for Friends of the Heysen Trail
REFRESH-INTERVAL;VALUE=DURATION:PT1H
X-Robots-Tag:noindex
X-PUBLISHED-TTL:PT1H
BEGIN:VTIMEZONE
TZID:Australia/Adelaide
BEGIN:STANDARD
TZOFFSETFROM:+1030
TZOFFSETTO:+0930
TZNAME:ACST
DTSTART:20210403T163000
END:STANDARD
BEGIN:DAYLIGHT
TZOFFSETFROM:+0930
TZOFFSETTO:+1030
TZNAME:ACDT
DTSTART:20211002T163000
END:DAYLIGHT
BEGIN:STANDARD
TZOFFSETFROM:+1030
TZOFFSETTO:+0930
TZNAME:ACST
DTSTART:20220402T163000
END:STANDARD
BEGIN:DAYLIGHT
TZOFFSETFROM:+0930
TZOFFSETTO:+1030
TZNAME:ACDT
DTSTART:20221001T163000
END:DAYLIGHT
BEGIN:STANDARD
TZOFFSETFROM:+1030
TZOFFSETTO:+0930
TZNAME:ACST
DTSTART:20230401T163000
END:STANDARD
BEGIN:DAYLIGHT
TZOFFSETFROM:+0930
TZOFFSETTO:+1030
TZNAME:ACDT
DTSTART:20230930T163000
END:DAYLIGHT
END:VTIMEZONE
BEGIN:VEVENT
DTSTART;VALUE=DATE:20220423
DTEND;VALUE=DATE:20220502
DTSTAMP:20260420T100057
CREATED:20210807T092508Z
LAST-MODIFIED:20220409T083453Z
UID:10005785-1650672000-1651449599@dev2.heysentrail.asn.au
SUMMARY:End 2 End Minus 2 Week 4
DESCRIPTION:The reverse traverse continues into it’s second year from Dutchman’s Stern to Horrocks Pass in the first half of the walk\, a catch-up following the 2021 lockdown\, in Nukunu country.\nNB The bus fee covers all bus transport\, and for most people this will mean transport to and from the walks each day. You will need to choose the bus to register and this includes the walk fee. If you are planning on joining the bus in Adelaide to Quorn and return\, please indicate in the comments box.\nDay 1 The walk circuits around Dutchmans\, crossing the Pichi Richi near Quorn\, where we finish this shorter day.\nDay 2 From Quorn the  climb up onto the Pichi Richi ridge before descending to Woolshed Flat. A real heart starter to kick off 2022\nDay 3 Sees the trail traverse Waukerie Creek before contouring up to summit Mount Brown\, for superb views over Spencer Gulf and up and down the Southern Flinders\, before exiting via Broadview Station.\nDay 4 The final day of our catch-up takes the group along the range to Horrocks Pass where we complete our missed walk.\nRest day and a transfer from Quorn to the Wirrabara area.\nDay 5 Continues from Murray Town to White Park.\nDay 6 Walkers head into to the Wirrabara Forest and onto the Bluff overlooking Port Pirie\, before descending down to the Old Nursery.\nDay 7 The last day of Week 4 continues along the ups and down of the Bluff and exits the forest to finish at Mount Zion (well near it anyway).
URL:https://dev2.heysentrail.asn.au/walking-the-heysen-trail/walk-the-trail-with-friends/walk-calendar/end-2-end-minus-2-2022/
CATEGORIES:End-to-End Minus 2
END:VEVENT
BEGIN:VEVENT
DTSTART;VALUE=DATE:20220501
DTEND;VALUE=DATE:20220502
DTSTAMP:20260420T100057
CREATED:20210825T213038Z
LAST-MODIFIED:20220428T114456Z
UID:10005795-1651363200-1651449599@dev2.heysentrail.asn.au
SUMMARY:Mt Crawford-Pewsey Vale with End To End 14
DESCRIPTION:The location for this week’s walk has been changed due to a recent notification of a prescribed burn in the Warren Conservation Park. \n\nInstead of walking from The Nugget Rd  to Mt Crawford we will now be doing the next section along Mt Crawford to Pewsey Vale please note the new bus pickup location. If you do not want to do this revised walk please contact the Heysen Office to arrange a refund.\n\nCan you please email markfletch.heysen@outlook.com to acknowledge you have received these revised walk details to save me time on follow-up\n\nInitially climbing over Mount Crawford with stunning views the trail follows forest edges and roadsides\, then make its way up and over the pretty Wirra Wirra Peaks\, before descending to creek lines again. Walkers follow roads and road reserves through open big gum grazing land.
URL:https://dev2.heysentrail.asn.au/walking-the-heysen-trail/walk-the-trail-with-friends/walk-calendar/nugget-rd-mt-crawford-2022/
CATEGORIES:End-to-End 14
END:VEVENT
BEGIN:VEVENT
DTSTART;VALUE=DATE:20220501
DTEND;VALUE=DATE:20220502
DTSTAMP:20260420T100057
CREATED:20210915T033645Z
LAST-MODIFIED:20220425T023351Z
UID:10005821-1651363200-1651449599@dev2.heysentrail.asn.au
SUMMARY:Heysen Walk 3 - Tappanappa - Balquidder
DESCRIPTION:This is a catchup walk for any EE walker that has not yet completed this walk or would like to do it again.\n\nSpots are limited to 24\, and if not enough walkers bus will be cancelled and car pooling will be arranged\n\nThe walk is by early registration link only! To register for this walk send an email to Mark Curtis  HeysenEE15@iinet.net.au to reserve your spot.\n\n \n\nThis is a picturesque section highlighting the diversity of the Heysen Trail\, walkers traverse native bushland\, a long sandy beach\, lush farmland and some very memorable hills. Photo opportunities abound\, and you might even spot a whale
URL:https://dev2.heysentrail.asn.au/walking-the-heysen-trail/walk-the-trail-with-friends/walk-calendar/tappanappa-balquidder-2022/
CATEGORIES:Trail Walker
END:VEVENT
BEGIN:VEVENT
DTSTART;VALUE=DATE:20220507
DTEND;VALUE=DATE:20220508
DTSTAMP:20260420T100057
CREATED:20211018T020202Z
LAST-MODIFIED:20220503T055006Z
UID:10005849-1651881600-1651967999@dev2.heysentrail.asn.au
SUMMARY:Willunga Basin Trail
DESCRIPTION:The Willunga Basin Trail winds its way around and across the Willunga Basin for 130km: taking walkers through a diverse landscape of bushland\, forests\, vineyards\, almond groves\, parks and beaches. It links the townships of McLaren Vale\, McLaren Flat\, Kangarilla\, and Willunga to the suburbs of Aldinga\, Port Willunga\, Maslin Beach\, Moana and Seaford. It has been created and developed by volunteers.  The Friends program aims to cover the loop over 6 walks.\n\nWALK 1: Sellicks Hill to Moana Beach approx 25km mostly flat. Starting with some road verge and reserve\, then a variety of cliff and beach as well as a section through Aldinga Scrub. Tides will dictate how much we are on the beach.\n\nSufficient water for a day\, hat and lunch are essential.\n\nPlease be aware of FOHT weather policies regarding cancellation of walks and adherence to Covid requirements. THIS WALK WILL USE A BUS so participants should use hand sanitiser and wear a face mask throughout the bus trip.\n\nBIOSECURITY MEASURES – Please ensure you thoroughly clean your footwear\, clothing\, walking poles and other equipment before and after each walk to remove all seeds\, dirt and other debris. Removed seeds should be bagged and disposed in a ‘to landfill’ garbage bin.
URL:https://dev2.heysentrail.asn.au/walking-the-heysen-trail/walk-the-trail-with-friends/walk-calendar/willunga-basin-trail-may-8-2022/
CATEGORIES:Willunga Basin Trail End-to-End
END:VEVENT
BEGIN:VEVENT
DTSTART;VALUE=DATE:20220507
DTEND;VALUE=DATE:20220508
DTSTAMP:20260420T100057
CREATED:20220423T085427Z
LAST-MODIFIED:20220506T075945Z
UID:10005176-1651881600-1651967999@dev2.heysentrail.asn.au
SUMMARY:Cleland Sth/Nth Loop
DESCRIPTION:A  walk of 23kms through Cleland CP starting from Measday Lookout in the south traversing the park to Greenhill Rd in the north.Then returning using various trails .There are a number of ascents and descents on this walk so you must have E2E or Trailwalker Fitness.Please read all of the details for this walk and be aware of the Weather cancellation Policies .Also take the time to read Risks and Obligations you agree to when registering for this walk .\n\nBIOSECURITY MEASURES – Please ensure you thoroughly clean your footwear\, clothing\, walking poles and other equipment before and after each walk to remove all seeds\, dirt and other debris. Removed seeds should be bagged and disposed in a ‘to landfill’ garbage bin.
URL:https://dev2.heysentrail.asn.au/walking-the-heysen-trail/walk-the-trail-with-friends/walk-calendar/cleland-sth-nth-loop-2022/
CATEGORIES:Trail Walker
END:VEVENT
BEGIN:VEVENT
DTSTART;VALUE=DATE:20220507
DTEND;VALUE=DATE:20220509
DTSTAMP:20260420T100057
CREATED:20210828T225137Z
LAST-MODIFIED:20220501T231227Z
UID:10005069-1651881600-1652054399@dev2.heysentrail.asn.au
SUMMARY:Wandallah to Newikie Creek to Dares Hill Summit Rd
DESCRIPTION:Note well: we are walking this weekend out of the normal order\n\nSaturday – Newikie Creek to Dares Hill Summit Rd: This section passes through Caroona Creek Conservation Park and Tourilie Gorge\, which is one of the lesser known gems of the Trail. Look out for the remnants of an old bullock track cut through the gorge.\n\nSunday – Wandallah to Newikie Creek: This remote and very undulating section gives walkers their first introduction to the grazing lands beyond Goyders Line.\n\nIf you would like to register for only one of the walk days\, PLEASE call the office to register after registrations are open\n\nAccommodation recommended in Burra\n\nThe theme for the weekend is ‘Disaster’
URL:https://dev2.heysentrail.asn.au/walking-the-heysen-trail/walk-the-trail-with-friends/walk-calendar/13s-2022/
CATEGORIES:End-to-End 13
END:VEVENT
BEGIN:VEVENT
DTSTART;VALUE=DATE:20220508
DTEND;VALUE=DATE:20220509
DTSTAMP:20260420T100057
CREATED:20211014T070209Z
LAST-MODIFIED:20220505T045704Z
UID:10005842-1651968000-1652054399@dev2.heysentrail.asn.au
SUMMARY:E2E16 Cape Jervis to Cobbler Hill
DESCRIPTION:This is the first walk for the new End to End 16 group.\n\nAfter you register for this walk you will receive an email inviting you to attend one of two introductory walks to be held before this walk.\nThese walks will give you a chance to assess your fitness and to raise any queries you might have before you embark on the Heysen Trail.\nThose people who successfully register for this walk will be given priority access to register for the subsequent E2E16 walks.\n\nThis first walk starts from the Cape Jervis trailhead and follows sandy coastal tracks and exposed coastal hillsides\, providing spectacular views over Backstairs Passage to Kangaroo Island. An easy start to the walk turns to undulations further along\, ending with the much talked about Cobbler Hill for the last 2kms.\n\nWalkers are sometimes rewarded with sightings of seals and dolphins. At Blowhole Beach the trail enters Deep Creek Conservation Park to begin the long climb through native bushland to Cobbler Hill.\n\nInformation re BUS transport: For End to End walks the bus does NOT transport walkers from Adelaide to the walk. After registration\, walkers will be given instructions to drive their vehicle to the meeting point which will be at the END point of the day’s walk. The cars remain there and the bus transports the group to the start point. From there\, the group walks back to the cars.\n\nArrangements will also be made to facilitate car pooling from the city (near Marion) so that you can share the driving and/or navigating throughout the walking season.
URL:https://dev2.heysentrail.asn.au/walking-the-heysen-trail/walk-the-trail-with-friends/walk-calendar/cape-jervis-cobbler-hill-2022/
CATEGORIES:End-to-End 16
END:VEVENT
BEGIN:VEVENT
DTSTART;VALUE=DATE:20220514
DTEND;VALUE=DATE:20220515
DTSTAMP:20260420T100057
CREATED:20210915T034028Z
LAST-MODIFIED:20220512T093833Z
UID:10005822-1652486400-1652572799@dev2.heysentrail.asn.au
SUMMARY:Heysen Walk 4 - Balquidder-Waitpinga
DESCRIPTION:This is a catchup walk for any EE walker that has not yet completed this walk or would like to do it again.\n\nSpots are limited to 24\, and car pooling will be arranged to facilitate transport to the start and end points of the walk\n\nThe walk is by early registration link only! To register for this walk send an email to Mark Curtis  HeysenEE15@iinet.net.au to reserve your spot.\n\n\nDescription: Picturesque farmland\, unspoilt sandy beaches\, rocky headlands and the chance to spot whales characterise this section of the Trail
URL:https://dev2.heysentrail.asn.au/walking-the-heysen-trail/walk-the-trail-with-friends/walk-calendar/balquidder-waitpinga-2022/
CATEGORIES:Trail Walker
END:VEVENT
BEGIN:VEVENT
DTSTART;VALUE=DATE:20220514
DTEND;VALUE=DATE:20220516
DTSTAMP:20260420T100057
CREATED:20210806T000135Z
LAST-MODIFIED:20220512T040634Z
UID:10005053-1652486400-1652659199@dev2.heysentrail.asn.au
SUMMARY:Smith Rd-Eudunda-Stock Route Rd
DESCRIPTION:This is the first walk of the second half of The Lavender Federation Trail.  The walk will get the heart started with a series of undulations through Narcoota Springs with some commanding views as we return to the road and head alongside Foote Creek.  We then continue through farming land and along backroads and ultimately head towards Eudunda – home of Colin Thiele who is commemorated with some beautiful silo art – and to the farmland and vista beyond.\n\nThis walk is open to all members even if you have not walked with us in the first year.\n\nPlease note: If you only wish to walk on one day of the weekend you will need to register through the office.
URL:https://dev2.heysentrail.asn.au/walking-the-heysen-trail/walk-the-trail-with-friends/walk-calendar/smith-rd-eudunda-stock-route-rd-2022/
CATEGORIES:End-to-End Lavender Trail
END:VEVENT
BEGIN:VEVENT
DTSTART;VALUE=DATE:20220515
DTEND;VALUE=DATE:20220516
DTSTAMP:20260420T100057
CREATED:20220420T024218Z
LAST-MODIFIED:20220509T094051Z
UID:10005174-1652572800-1652659199@dev2.heysentrail.asn.au
SUMMARY:Sturt Gorge
DESCRIPTION:Rugged gorge with a looping tracks\, up and down. Good views and beautiful creekside sections. This is a good Trailwalker standard with plenty of cardio hill to practice ups and downs. Opportunity for walking pole instruction on request.\n\nBIOSECURITY MEASURES – Please ensure you thoroughly clean your footwear\, clothing\, walking poles and other equipment before and after each walk to remove all seeds\, dirt and other debris. Removed seeds should be bagged and disposed in a ‘to landfill’ garbage bin.
URL:https://dev2.heysentrail.asn.au/walking-the-heysen-trail/walk-the-trail-with-friends/walk-calendar/sturt-gorge-2022-3/
CATEGORIES:Trail Walker
END:VEVENT
BEGIN:VEVENT
DTSTART;TZID=Australia/Adelaide:20220515T083000
DTEND;TZID=Australia/Adelaide:20220515T113000
DTSTAMP:20260420T100057
CREATED:20220221T045125Z
LAST-MODIFIED:20220507T060826Z
UID:10005879-1652603400-1652614200@dev2.heysentrail.asn.au
SUMMARY:Happy Valley Reservoir
DESCRIPTION:The  Happy ValleyReservoir was opened to the public December 2021.  This is a nice introduction to the walk season\, and a chance to discover what has been hidden behind those fences.  We follow the track around the boundary and along the shore of the dam.  The trail is easy and a good one for walk beginners.\n\nBIOSECURITY MEASURES – Please ensure you thoroughly clean your footwear\, clothing\, walking poles and other equipment before and after each walk to remove all seeds\, dirt and other debris. Removed seeds should be bagged and disposed in a ‘to landfill’ garbage bin.
URL:https://dev2.heysentrail.asn.au/walking-the-heysen-trail/walk-the-trail-with-friends/walk-calendar/happy-valley-reservoir-2022-2/
CATEGORIES:Trail Starter
END:VEVENT
BEGIN:VEVENT
DTSTART;VALUE=DATE:20220519
DTEND;VALUE=DATE:20220520
DTSTAMP:20260420T100057
CREATED:20210914T054343Z
LAST-MODIFIED:20220425T053236Z
UID:10005081-1652918400-1653004799@dev2.heysentrail.asn.au
SUMMARY:Onkaparinga
DESCRIPTION:A trail starter in length\, but with uneven\, rocky\, slippery and undulating tracks.\n\n \n\nA circular walk in a small section of the Onkaparinga National Park passing through areas of native bush\, including pink gum and grey box woodland. This area is a habitat for kangaroos\, koalas\, echidna and many birds. As we walk along some sections of the ridge top there are good views of the gorge.
URL:https://dev2.heysentrail.asn.au/walking-the-heysen-trail/walk-the-trail-with-friends/walk-calendar/onkaparinga-2022/
CATEGORIES:Trail Starter
END:VEVENT
BEGIN:VEVENT
DTSTART;VALUE=DATE:20220521
DTEND;VALUE=DATE:20220522
DTSTAMP:20260420T100057
CREATED:20211018T204359Z
LAST-MODIFIED:20220511T045906Z
UID:10005125-1653091200-1653177599@dev2.heysentrail.asn.au
SUMMARY:Yurrebilla Pt3
DESCRIPTION:The final stage of the trail this walk will take you through both the Morialta and Black Hill Conservation Parks. It is just under 19k but challenging.\n\nBIOSECURITY MEASURES – Please ensure you thoroughly clean your footwear\, clothing\, walking poles and other equipment before and after each walk to remove all seeds\, dirt and other debris. Removed seeds should be bagged and disposed in a ‘to landfill’ garbage bin.
URL:https://dev2.heysentrail.asn.au/walking-the-heysen-trail/walk-the-trail-with-friends/walk-calendar/yurrebilla-pt3-2021/
CATEGORIES:Trail Walker
END:VEVENT
BEGIN:VEVENT
DTSTART;VALUE=DATE:20220521
DTEND;VALUE=DATE:20220523
DTSTAMP:20260420T100057
CREATED:20210913T225527Z
LAST-MODIFIED:20220418T090612Z
UID:10005808-1653091200-1653263999@dev2.heysentrail.asn.au
SUMMARY:Walk The Yorke – Price-Ardrossan-Black Point
DESCRIPTION:Saturday…\n\nLeaving Price the trail passes the works and salt evaporation pans of  Cheetham Salt Limited.  After leaving the shelter at Macs Beach the trail continues behind sand dunes before following  the roads further south. There are two or three small hill climbs before finishing following the cliff tops into Ardrossan.\n\nSunday…\n\nFrom Ardrossan the trail follows the coast and then clifftops into Pine Point.\nWe then continue along the beachfront to the Black Point camping ground.\n\nSuggested accommodation – Ardrossan\n\nNOTE – If you wish to walk on only one day\, please contact the FOHT office (once bookings have opened) to register for that day’s walk. The on-line registration system will only allow you to register for both days.
URL:https://dev2.heysentrail.asn.au/walking-the-heysen-trail/walk-the-trail-with-friends/walk-calendar/price-ardrossan-2022/
CATEGORIES:Walk the Yorke End-to-End
END:VEVENT
BEGIN:VEVENT
DTSTART;VALUE=DATE:20220521
DTEND;VALUE=DATE:20220523
DTSTAMP:20260420T100057
CREATED:20220409T063352Z
LAST-MODIFIED:20220422T103710Z
UID:10005172-1653091200-1653263999@dev2.heysentrail.asn.au
SUMMARY:Bowman Park/Mt Zion/Wirrabara Forest
DESCRIPTION:Sat 21st-For most of this section the trail follows gravel roads and a rollercoaster firetrack through natural bushland towards the TV tower where walkers are rewarded with spectacular views of the gulf and beyond.The tower never seems to get any closer (it’s just over the next Hill) i think ?\n\nSunday -22nd\n\nFollowing the closure of the trail along the Crystal Brook\, north of Bowman Park\, this section now commences with a road walk continuing along Bowman Park Road past Bowman Park\, turning north east along Huddleston Road. The Trail then turns north up Head Road\, continuing until Pipeline Road\, which it then follows until reaching Head Road and following that to the Wilkins Highway and Hughes Gap. After Hughes Gap the Trail meets the southern most hills of the Flinders Ranges and the Trail gradually climbs to the top of the range to reveal views over Port Pirie and Spencer Gulf.\n\n \n\n**Please sanitise hands and wear a mask before  boarding the bus***\n\nBIOSECURITY MEASURES – Please ensure you thoroughly clean your footwear\, clothing\, walking poles and other equipment before and after each walk to remove all seeds\, dirt and other debris. Removed seeds should be bagged and disposed in a ‘to landfill’ garbage bin.\n\nWEEKEND BASED IN GLADSTONE OR SURROUNDS\n\nMEAL SAT NIGHT -NORTH LAURA PUB – THEME (SOMETHING PINK )PLEASE TICK RSVP BOX OR LEAVE NOTE IF ATTENDING.\n\nPLEASE NOTE WE’RE DOING THESE WALKS OUT OF ORDER .\n\nIF YOU WOULD LIKE TO ONLY WALK ON ONE DAY PLEASE RING  OFFICE TO REGISTER
URL:https://dev2.heysentrail.asn.au/walking-the-heysen-trail/walk-the-trail-with-friends/walk-calendar/bowman-park-mt-zion-wirrabara-forest-2022/
CATEGORIES:End-to-End 12
END:VEVENT
BEGIN:VEVENT
DTSTART;VALUE=DATE:20220522
DTEND;VALUE=DATE:20220523
DTSTAMP:20260420T100057
CREATED:20210914T054547Z
LAST-MODIFIED:20220425T044411Z
UID:10005082-1653177600-1653263999@dev2.heysentrail.asn.au
SUMMARY:Kuitpo
DESCRIPTION:Commencing from the oldest timber plantation in the Mount Lofty Ranges\, planted in 1898\, this walk passes through a small section of Kuitpo Forest. Walking mainly on open tracks the landscape will be a mix of forest\, native vegetation and farmland.
URL:https://dev2.heysentrail.asn.au/walking-the-heysen-trail/walk-the-trail-with-friends/walk-calendar/kuitpo-2022/
CATEGORIES:Trail Starter
END:VEVENT
BEGIN:VEVENT
DTSTART;VALUE=DATE:20220522
DTEND;VALUE=DATE:20220523
DTSTAMP:20260420T100057
CREATED:20211025T051737Z
LAST-MODIFIED:20220521T070500Z
UID:10005865-1653177600-1653263999@dev2.heysentrail.asn.au
SUMMARY:Stirling-Lofty Botanic park Return
DESCRIPTION:Leaving Stirling promptly  @ 8.30am we will first do a walk to and through Woodhouse Scout camp\, then onto Mt Lofty Botanic Gardens. (Rest break ) Leaving there\, is an uphill climb out of the park and onto Harfords seat. For a great view of our wonderful city. ( Rest break )\nThen via the Cleland reserves and Crafers before crossing over the highway\, for the last push back to our start point in Stirling.\nApproximately 12 to 14klms \nBIOSECURITY MEASURES – Please ensure you thoroughly clean your footwear\, clothing\, walking poles and other equipment before and after each walk to remove all seeds\, dirt and other debris. Removed seeds should be bagged and disposed in a ‘to landfill’ garbage bin.
URL:https://dev2.heysentrail.asn.au/walking-the-heysen-trail/walk-the-trail-with-friends/walk-calendar/stirling-lofty-return-2021/
CATEGORIES:Trail Walker
END:VEVENT
BEGIN:VEVENT
DTSTART;VALUE=DATE:20220528
DTEND;VALUE=DATE:20220529
DTSTAMP:20260420T100057
CREATED:20210905T070227Z
LAST-MODIFIED:20220523T093139Z
UID:10005797-1653696000-1653782399@dev2.heysentrail.asn.au
SUMMARY:EE15 Walk 8 - Myponga-Mt Compass
DESCRIPTION:After a short road walk\, the trail enters the small but picturesque Yulte Conservation Park after a steady climb you have a challenging steep  descent where walking poles\, if you have them\, will be put to good use.\n\nAfter emerging from the bushland\, the trail crosses open farmland continuing along Lawless Rd (and past the Myponga Pistol Club firing range)\, and gradually climbing to Mt Cone\, passing interesting 2 tier tree plots dotted about the hills and from the top of the ridge you are presented with distant views over Victor Harbor to the South before finishing with a road walk to Mt Compass
URL:https://dev2.heysentrail.asn.au/walking-the-heysen-trail/walk-the-trail-with-friends/walk-calendar/myponga-mt-compass-2022/
CATEGORIES:End-to-End 15
END:VEVENT
BEGIN:VEVENT
DTSTART;VALUE=DATE:20220528
DTEND;VALUE=DATE:20220529
DTSTAMP:20260420T100057
CREATED:20210926T015745Z
LAST-MODIFIED:20220516T085611Z
UID:10005103-1653696000-1653782399@dev2.heysentrail.asn.au
SUMMARY:Montacute C/P
DESCRIPTION:This circular walk through the rugged hills of Montacute Conservation Park is challenging\, but rewarding with excellent views.\n\nThere a number of very steep climbs on this walk and only register if you have done the training required.
URL:https://dev2.heysentrail.asn.au/walking-the-heysen-trail/walk-the-trail-with-friends/walk-calendar/montacute-c-p-2022/
CATEGORIES:Trail Walker
END:VEVENT
BEGIN:VEVENT
DTSTART;VALUE=DATE:20220528
DTEND;VALUE=DATE:20220529
DTSTAMP:20260420T100057
CREATED:20211018T020445Z
LAST-MODIFIED:20220525T011636Z
UID:10005113-1653696000-1653782399@dev2.heysentrail.asn.au
SUMMARY:Willunga Basin Trail
DESCRIPTION:The Willunga Basin Trail winds its way around and across the Willunga Basin for 130km: taking walkers through a diverse landscape of bushland\, forests\, vineyards\, almond groves\, parks and beaches. It links the townships of McLaren Vale\, McLaren Flat\, Kangarilla\, and Willunga to the suburbs of Aldinga\, Port Willunga\, Maslin Beach\, Moana and Seaford. It has been created and developed by volunteers. We cover the loop over 6 walks.\n\nWALK 2: Moana Beach to Gate 20\, Onkaparinga National Park.\nLeaving the coast at Moana\, then we take the rail wine trail to McLaren Vale followed by road/reserve to Onkaparinga. It is 21km but not difficult or hilly terrain.\n\nSufficient water for a day\, morning tea and lunch.\n\nPlease be aware of FOHT weather policies regarding cancellation of walks and adherence to Covid requirements: THIS WALK WILL USE A BUS so participants should use hand sanitiser and wear a face mask throughout the bus trip.\n\nBIOSECURITY MEASURES – Please ensure you thoroughly clean your footwear\, clothing\, walking poles and other equipment before and after each walk to remove all seeds\, dirt and other debris. Removed seeds should be bagged and disposed in a ‘to landfill’ garbage bin.
URL:https://dev2.heysentrail.asn.au/walking-the-heysen-trail/walk-the-trail-with-friends/walk-calendar/willunga-basin-trail-may-22-2022/
CATEGORIES:Willunga Basin Trail End-to-End
END:VEVENT
BEGIN:VEVENT
DTSTART;VALUE=DATE:20220529
DTEND;VALUE=DATE:20220530
DTSTAMP:20260420T100057
CREATED:20211101T020633Z
LAST-MODIFIED:20220522T060055Z
UID:10005870-1653782400-1653868799@dev2.heysentrail.asn.au
SUMMARY:Mylor/Aldgate Circuit
DESCRIPTION:Come along and walk some little known tracks via the Mylor Parklands and around Aldgate Creek using the Bandicoot Trail and then linking backroads to meet the Heysen Trail as it parallels the Strathalbyn Road and transverses the Mylor Conservation Park.\n\nBIOSECURITY MEASURES – Please ensure you thoroughly clean your footwear\, clothing\, walking poles and other equipment before and after each walk to remove all seeds\, dirt and other debris. Removed seeds should be bagged and disposed in a ‘to landfill’ garbage bin.
URL:https://dev2.heysentrail.asn.au/walking-the-heysen-trail/walk-the-trail-with-friends/walk-calendar/mylor-aldgate-2021/
CATEGORIES:Trail Starter
END:VEVENT
BEGIN:VEVENT
DTSTART;TZID=Australia/Adelaide:20220529T073000
DTEND;TZID=Australia/Adelaide:20220529T140000
DTSTAMP:20260420T100057
CREATED:20210914T223431Z
LAST-MODIFIED:20220521T085015Z
UID:10005817-1653809400-1653832800@dev2.heysentrail.asn.au
SUMMARY:Seacliff-Belair
DESCRIPTION:This walk will predominately follow the ‘Sea to Summit’ trail. Commencing from Seacliff\, winding from the coast through urban landscapes & streets\, several recreation parks\, and concluding at Belair.\n\nThis walk includes several steep undulations\, small creek crossings with associated slippery surfaces & rocks. It will be expected you can comfortably walk at a reasonable pace for the duration of this walk.\n\nA bus will be used to transport us from the meeting location to the start of the walk.\n\nIt is requested you undertake a Rapid Antigen Test (RAT) on the morning prior this walk. If you test Positive\, please notify the walk leader so they are aware you will not be attending.\n\nPLEASE ENSURE THAT YOU USE HAND SANITIZER PRIOR TO BOARDING AND WEAR A FACE MASK THROUGHOUT THE BUS TRIP.
URL:https://dev2.heysentrail.asn.au/walking-the-heysen-trail/walk-the-trail-with-friends/walk-calendar/seacliff-belair-2022/
CATEGORIES:Trail Walker
END:VEVENT
END:VCALENDAR