BEGIN:VCALENDAR
VERSION:2.0
PRODID:-//Friends of the Heysen Trail - ECPv6.15.20//NONSGML v1.0//EN
CALSCALE:GREGORIAN
METHOD:PUBLISH
X-ORIGINAL-URL:https://dev2.heysentrail.asn.au
X-WR-CALDESC:Events for Friends of the Heysen Trail
REFRESH-INTERVAL;VALUE=DURATION:PT1H
X-Robots-Tag:noindex
X-PUBLISHED-TTL:PT1H
BEGIN:VTIMEZONE
TZID:Australia/Adelaide
BEGIN:STANDARD
TZOFFSETFROM:+1030
TZOFFSETTO:+0930
TZNAME:ACST
DTSTART:20210403T163000
END:STANDARD
BEGIN:DAYLIGHT
TZOFFSETFROM:+0930
TZOFFSETTO:+1030
TZNAME:ACDT
DTSTART:20211002T163000
END:DAYLIGHT
BEGIN:STANDARD
TZOFFSETFROM:+1030
TZOFFSETTO:+0930
TZNAME:ACST
DTSTART:20220402T163000
END:STANDARD
BEGIN:DAYLIGHT
TZOFFSETFROM:+0930
TZOFFSETTO:+1030
TZNAME:ACDT
DTSTART:20221001T163000
END:DAYLIGHT
BEGIN:STANDARD
TZOFFSETFROM:+1030
TZOFFSETTO:+0930
TZNAME:ACST
DTSTART:20230401T163000
END:STANDARD
BEGIN:DAYLIGHT
TZOFFSETFROM:+0930
TZOFFSETTO:+1030
TZNAME:ACDT
DTSTART:20230930T163000
END:DAYLIGHT
END:VTIMEZONE
BEGIN:VEVENT
DTSTART;TZID=Australia/Adelaide:20220403T083000
DTEND;TZID=Australia/Adelaide:20220403T140000
DTSTAMP:20260420T140541
CREATED:20220129T042256Z
LAST-MODIFIED:20220322T045250Z
UID:10005150-1648974600-1648994400@dev2.heysentrail.asn.au
SUMMARY:End 2 End Minus 2 Get-together Walk 2022
DESCRIPTION:A reprise of the initial  Minus 2 get-together walk\, using the trails around Belair National Park\, culminating at the Hiking Expo 2022\, Main Oval\, Belair\, celebrating the opening of the walking season\, where we will have lunch and loiter a while\, before returning to our cars. \nThe walk will use the trails and roads of the National Park\, including Echo Tunnel. \nBetter bring a torch\, if you’re afraid of the dark. \nWater and morning snack will also be a good idea. \nLunch if you like\, however there may be food at the Expo\, Covid restrictions permitting. .\nA chance to get together with your colleagues from 2021 and the leaders. \nChance to discuss meals\, accommodation\, transport and just chat.\nBring your questions which we endeavour to answer as we go along.\nRemember Daylight saving reverts back on Sunday morning\, so make sure your clocks are turned back.\nBIOSECURITY MEASURES – Please ensure you thoroughly clean your footwear\, clothing\, walking poles and other equipment before and after each walk to remove all seeds\, dirt and other debris. Removed seeds should be bagged and disposed in a ‘to landfill’ garbage bin.
URL:https://dev2.heysentrail.asn.au/walking-the-heysen-trail/walk-the-trail-with-friends/walk-calendar/end-2-end-minus-2-gettogether-2022-2022/
CATEGORIES:End-to-End Minus 2
END:VEVENT
BEGIN:VEVENT
DTSTART;TZID=Australia/Adelaide:20220403T090000
DTEND;TZID=Australia/Adelaide:20220403T130000
DTSTAMP:20260420T140541
CREATED:20211012T004307Z
LAST-MODIFIED:20211012T004319Z
UID:10005841-1648976400-1648990800@dev2.heysentrail.asn.au
SUMMARY:Hiking Expo Belair
DESCRIPTION:An expo to celebrate the start of the South Australian bushwalking season.\n\nJoin the Friends as we host guided walks\, to show expo visitors around the park\, and promote and chat to people.\n\nPlease see Walking SA webpage for details.
URL:https://dev2.heysentrail.asn.au/walking-the-heysen-trail/walk-the-trail-with-friends/walk-calendar/hiking-expo-belair-2022/
CATEGORIES:Social
END:VEVENT
BEGIN:VEVENT
DTSTART;VALUE=DATE:20220409
DTEND;VALUE=DATE:20220410
DTSTAMP:20260420T140541
CREATED:20211018T203718Z
LAST-MODIFIED:20220406T070547Z
UID:10005121-1649462400-1649548799@dev2.heysentrail.asn.au
SUMMARY:Yurrebilla Pt  1
DESCRIPTION:This is the first of three walks that will cover the 54 km of the Yurrebilla Trail\n\nCommencing at the Belair Railway Station this section of the Yurrebilla Trail covers trails in the northern area of Belair National Park\, before descending into and walking through Brownhill Creek Recreation Park passing many heritage sites. Climbing out of the park the trail follows the hills face behind Carrick Hill and over the open grassy hills and ridgetops of Waite Conservation Reserve before joining the Mt Barker Road for a couple of kilometers.\n\nBIOSECURITY MEASURES – Please ensure you thoroughly clean your footwear\, clothing\, walking poles and other equipment before and after each walk to remove all seeds\, dirt and other debris. Removed seeds should be bagged and disposed in a ‘to landfill’ garbage bin.
URL:https://dev2.heysentrail.asn.au/walking-the-heysen-trail/walk-the-trail-with-friends/walk-calendar/yurrebilla-pt-1-2021/
CATEGORIES:Trail Walker
END:VEVENT
BEGIN:VEVENT
DTSTART;VALUE=DATE:20220409
DTEND;VALUE=DATE:20220411
DTSTAMP:20260420T140541
CREATED:20210913T225110Z
LAST-MODIFIED:20220302T031258Z
UID:10005807-1649462400-1649635199@dev2.heysentrail.asn.au
SUMMARY:Walk The Yorke – Pt Wakefield-Pt Arthur shelter-Price
DESCRIPTION:Note … this weekend’s walking is through an area without any shrubbery. It is suggested that walkers add an an artificial shrub to their pack … or perhaps an umbrella.\nAlso …. poles are highly recommended for this walk because parts of it will be quite slippery if there has been recent rain.\n\nSaturday…\n\nThis first section of the trail passes through world class samphire flags forming a unique ecosystem.\nWe pass the Clinton Conservation Park. Over 138 bird species have been recorded here.\nWhile the intertidal mudflats may seem an unappealing landscape\, the environment is quite diverse\, which is why it can support so many birds.\n\nSunday…\n\nThe WTY winds its way into the hilltop country\, passing historic sheep troughs and early settlers’ damming methods attempting to trap valuable water.\nThe trail follows roads through prime coastal farm land\, providing sneaky views of the coast and surrounding areas\, before dipping down into the historic township of of Clinton.\n\nPort Clinton to Price is one of the Hero walks of the WTY.\n\nDeparting Port Clinton the trail heads onto  the clifftop with majestic views over the mangrove forest of Clinton Conservation Park\, a significant site for migratory wading birds.\nFurther south the trail descends onto the flat behind the mangroves and adjacent samphire system. There are possible sightings of wombats through this area.\n\nSuggested accommodation – Ardrossan\n(Pt Clinton was previously suggested but workers at Pt Wakefield may have booked the place out)\n\nNOTE – If you wish to walk on only one day\, please contact the FOHT office (once bookings have opened) to register for that day’s walk. The on-line registration system will only allow you to register for both days.
URL:https://dev2.heysentrail.asn.au/walking-the-heysen-trail/walk-the-trail-with-friends/walk-calendar/pt-wakefield-pt-arthur-2022/
CATEGORIES:Walk the Yorke End-to-End
END:VEVENT
BEGIN:VEVENT
DTSTART;VALUE=DATE:20220410
DTEND;VALUE=DATE:20220411
DTSTAMP:20260420T140541
CREATED:20220228T064833Z
LAST-MODIFIED:20220402T021508Z
UID:10005884-1649548800-1649635199@dev2.heysentrail.asn.au
SUMMARY:Anstey Hill
DESCRIPTION:A loop walk taking in some of the historical sites of the Anstey Hill Recreation Park.\n\nThe walk will be undulating with periods of challenges and views of the city.\n\nBIOSECURITY MEASURES – Please ensure you thoroughly clean your footwear\, clothing\, walking poles and other equipment before and after each walk to remove all seeds\, dirt and other debris. Removed seeds should be bagged and disposed in a ‘to landfill’ garbage bin.
URL:https://dev2.heysentrail.asn.au/walking-the-heysen-trail/walk-the-trail-with-friends/walk-calendar/anstey-hill-2022-2/
CATEGORIES:Trail Starter
END:VEVENT
BEGIN:VEVENT
DTSTART;TZID=Australia/Adelaide:20220410T073000
DTEND;TZID=Australia/Adelaide:20220410T120000
DTSTAMP:20260420T140541
CREATED:20220305T030215Z
LAST-MODIFIED:20220305T030223Z
UID:10005886-1649575800-1649592000@dev2.heysentrail.asn.au
SUMMARY:End 2 End Minus 2 Training Walk
DESCRIPTION:Join Julia and some of the Minus 2 team for a challenging walk around Black Hill. By this time fitness levels should be up\, so this should be a doddle! Black Hill\, a doddle\, you must be dreaming.\nBIOSECURITY MEASURES – Please ensure you thoroughly clean your footwear\, clothing\, walking poles and other equipment before and after each walk to remove all seeds\, dirt and other debris. Removed seeds should be bagged and disposed in a ‘to landfill’ garbage bin.
URL:https://dev2.heysentrail.asn.au/walking-the-heysen-trail/walk-the-trail-with-friends/walk-calendar/end-2-end-minus-2-training-walk-2022-4/
CATEGORIES:End-to-End Minus 2
END:VEVENT
BEGIN:VEVENT
DTSTART;VALUE=DATE:20220418
DTEND;VALUE=DATE:20220419
DTSTAMP:20260420T140541
CREATED:20211001T121214Z
LAST-MODIFIED:20220410T033226Z
UID:10005834-1650240000-1650326399@dev2.heysentrail.asn.au
SUMMARY:Onkaparinga - 3 River Crossings
DESCRIPTION:Onkaparinga 3 River Crossings:  A scenic exploration of Onkaparinga National Park on some lesser known trails and criss-crossing the river in 3 places – bring spare socks just in case.  We sample the Willunga Basin Trail in one part and finish with a strenuous climb out of the gorge to complete 14km. Anticipate 4-5 hours.  Please note this is a hard loop walk with no easy exit points – experience necessary.\n\nWet weather: in the event of rain prior the trail will potentially be slippery in places and the river crossings may have some water.  \n\nReminder: FOHT hot weather policy – walk will be automatically cancelled if BOM 4pm/ABC 7pm the day prior predicts 32 degrees or greater.
URL:https://dev2.heysentrail.asn.au/walking-the-heysen-trail/walk-the-trail-with-friends/walk-calendar/onkaparinga-3-river-crossings-2022/
CATEGORIES:Trail Walker
END:VEVENT
BEGIN:VEVENT
DTSTART;VALUE=DATE:20220423
DTEND;VALUE=DATE:20220502
DTSTAMP:20260420T140541
CREATED:20210807T092508Z
LAST-MODIFIED:20220409T083453Z
UID:10005785-1650672000-1651449599@dev2.heysentrail.asn.au
SUMMARY:End 2 End Minus 2 Week 4
DESCRIPTION:The reverse traverse continues into it’s second year from Dutchman’s Stern to Horrocks Pass in the first half of the walk\, a catch-up following the 2021 lockdown\, in Nukunu country.\nNB The bus fee covers all bus transport\, and for most people this will mean transport to and from the walks each day. You will need to choose the bus to register and this includes the walk fee. If you are planning on joining the bus in Adelaide to Quorn and return\, please indicate in the comments box.\nDay 1 The walk circuits around Dutchmans\, crossing the Pichi Richi near Quorn\, where we finish this shorter day.\nDay 2 From Quorn the  climb up onto the Pichi Richi ridge before descending to Woolshed Flat. A real heart starter to kick off 2022\nDay 3 Sees the trail traverse Waukerie Creek before contouring up to summit Mount Brown\, for superb views over Spencer Gulf and up and down the Southern Flinders\, before exiting via Broadview Station.\nDay 4 The final day of our catch-up takes the group along the range to Horrocks Pass where we complete our missed walk.\nRest day and a transfer from Quorn to the Wirrabara area.\nDay 5 Continues from Murray Town to White Park.\nDay 6 Walkers head into to the Wirrabara Forest and onto the Bluff overlooking Port Pirie\, before descending down to the Old Nursery.\nDay 7 The last day of Week 4 continues along the ups and down of the Bluff and exits the forest to finish at Mount Zion (well near it anyway).
URL:https://dev2.heysentrail.asn.au/walking-the-heysen-trail/walk-the-trail-with-friends/walk-calendar/end-2-end-minus-2-2022/
CATEGORIES:End-to-End Minus 2
END:VEVENT
BEGIN:VEVENT
DTSTART;VALUE=DATE:20220430
DTEND;VALUE=DATE:20220501
DTSTAMP:20260420T140541
CREATED:20211018T204020Z
LAST-MODIFIED:20220405T060705Z
UID:10005123-1651276800-1651363199@dev2.heysentrail.asn.au
SUMMARY:Yurrebilla Pt 2
DESCRIPTION:This section of the Yurrebilla Trail takes in trails in Cleland National Park. The trail joins up with the Heysen Trail at Wine Shanty Track and  follows it most of the time for the next 15km. Leaving Cleland the trail follows the Summit Rd and after crossing Greenhill Rd it eventually connects to Horsnell Gully and Giles Conservation Parks with its old stone ruin cottages before making its way to Norton Summit but we are going to continue on for a couple of km’s just to make the third challenging stage a little shorter.\n\nBIOSECURITY MEASURES – Please ensure you thoroughly clean your footwear\, clothing\, walking poles and other equipment before and after each walk to remove all seeds\, dirt and other debris. Removed seeds should be bagged and disposed in a ‘to landfill’ garbage bin.
URL:https://dev2.heysentrail.asn.au/walking-the-heysen-trail/walk-the-trail-with-friends/walk-calendar/yurrebilla-pt-2-2021/
CATEGORIES:Trail Walker
END:VEVENT
END:VCALENDAR