BEGIN:VCALENDAR
VERSION:2.0
PRODID:-//Friends of the Heysen Trail - ECPv6.15.20//NONSGML v1.0//EN
CALSCALE:GREGORIAN
METHOD:PUBLISH
X-ORIGINAL-URL:https://dev2.heysentrail.asn.au
X-WR-CALDESC:Events for Friends of the Heysen Trail
REFRESH-INTERVAL;VALUE=DURATION:PT1H
X-Robots-Tag:noindex
X-PUBLISHED-TTL:PT1H
BEGIN:VTIMEZONE
TZID:Australia/Adelaide
BEGIN:STANDARD
TZOFFSETFROM:+1030
TZOFFSETTO:+0930
TZNAME:ACST
DTSTART:20210403T163000
END:STANDARD
BEGIN:DAYLIGHT
TZOFFSETFROM:+0930
TZOFFSETTO:+1030
TZNAME:ACDT
DTSTART:20211002T163000
END:DAYLIGHT
BEGIN:STANDARD
TZOFFSETFROM:+1030
TZOFFSETTO:+0930
TZNAME:ACST
DTSTART:20220402T163000
END:STANDARD
BEGIN:DAYLIGHT
TZOFFSETFROM:+0930
TZOFFSETTO:+1030
TZNAME:ACDT
DTSTART:20221001T163000
END:DAYLIGHT
BEGIN:STANDARD
TZOFFSETFROM:+1030
TZOFFSETTO:+0930
TZNAME:ACST
DTSTART:20230401T163000
END:STANDARD
BEGIN:DAYLIGHT
TZOFFSETFROM:+0930
TZOFFSETTO:+1030
TZNAME:ACDT
DTSTART:20230930T163000
END:DAYLIGHT
END:VTIMEZONE
BEGIN:VEVENT
DTSTART;VALUE=DATE:20220302
DTEND;VALUE=DATE:20220303
DTSTAMP:20260420T175245
CREATED:20211024T211821Z
LAST-MODIFIED:20220223T064024Z
UID:10005857-1646179200-1646265599@dev2.heysentrail.asn.au
SUMMARY:Burnside
DESCRIPTION:A loop walk starting from Brock Reserve with a pleasant climb up towards Mt Osmond golf course offering some splendid views across Adelaide to the gulf. From near the golf course we cross Mt Osmond Road into Themada Resserve for a descent along tricky narrow path before again crossing Mt Osmond Road prior to a sharpish zig- zag climb back into Mt Osmond Reserve for the final gentle descent back to our cars.\n\nBIOSECURITY MEASURES – Please ensure you thoroughly clean your footwear\, clothing\, walking poles and other equipment before and after each walk to remove all seeds\, dirt and other debris. Removed seeds should be bagged and disposed in a ‘to landfill’ garbage bin.
URL:https://dev2.heysentrail.asn.au/walking-the-heysen-trail/walk-the-trail-with-friends/walk-calendar/burnside-2021/
CATEGORIES:Summer Walks
END:VEVENT
BEGIN:VEVENT
DTSTART;TZID=Australia/Adelaide:20220305T071500
DTEND;TZID=Australia/Adelaide:20220305T120000
DTSTAMP:20260420T175245
CREATED:20220216T044001Z
LAST-MODIFIED:20220303T021121Z
UID:10005875-1646464500-1646481600@dev2.heysentrail.asn.au
SUMMARY:End 2 End Minus 2 Training Walk
DESCRIPTION:Julia leads another walk\, along with the the Minus 2 leaders\, from Brock Reserve  up Mt Osmond\, Caro Track\, back of Mt Lofty and back again.\nWalks about 4 hours in length\, depending on the group.\nBring a snack\, plenty of water\, sunscreen\, hat etc.\n\nBIOSECURITY MEASURES – Please ensure you thoroughly clean your footwear\, clothing\, walking poles and other equipment before and after each walk to remove all seeds\, dirt and other debris. Removed seeds should be bagged and disposed in a ‘to landfill’ garbage bin.
URL:https://dev2.heysentrail.asn.au/walking-the-heysen-trail/walk-the-trail-with-friends/walk-calendar/end-2-end-minus-2-training-walk-2022-2/
CATEGORIES:End-to-End Minus 2
END:VEVENT
BEGIN:VEVENT
DTSTART;VALUE=DATE:20220309
DTEND;VALUE=DATE:20220310
DTSTAMP:20260420T175245
CREATED:20211024T212034Z
LAST-MODIFIED:20220206T103116Z
UID:10005858-1646784000-1646870399@dev2.heysentrail.asn.au
SUMMARY:Happy Valley
DESCRIPTION:Happy Valley reservoir was opened in December 2021 after being closed for over 100 years.\n\nIt is now open for walking\, cycling\, kayaking and fishing.\n\nWalking to the dam wall we will see views across the water to the Adelaide Hills\, then walk through some off the natural bush and onto the shore line. The bush is home to koalas\, kangaroos. echidna and many birds.\n\n \n\nDue to Covid there will be no meal after the walk.\n\n \n\n \n\nBIOSECURITY MEASURES – Please ensure you thoroughly clean your footwear\, clothing\, walking poles and other equipment before and after each walk to remove all seeds\, dirt and other debris. Removed seeds should be bagged and disposed in a ‘to landfill’ garbage bin.
URL:https://dev2.heysentrail.asn.au/walking-the-heysen-trail/walk-the-trail-with-friends/walk-calendar/happy-valley-2021/
CATEGORIES:Summer Walks
END:VEVENT
BEGIN:VEVENT
DTSTART;TZID=Australia/Adelaide:20220313T073000
DTEND;TZID=Australia/Adelaide:20220313T123000
DTSTAMP:20260420T175245
CREATED:20220228T063527Z
LAST-MODIFIED:20220311T040602Z
UID:10005883-1647156600-1647174600@dev2.heysentrail.asn.au
SUMMARY:End to End Minus 2 Training Walk
DESCRIPTION:Walk with Julia and some of the Minus 2 team from Measdays Lookout Car park\, up Caro Track\, down through the Mount Lofty Gardens and return via Mount Lofty.\nBring water and a snack for morning tea.\nBIOSECURITY MEASURES – Please ensure you thoroughly clean your footwear\, clothing\, walking poles and other equipment before and after each walk to remove all seeds\, dirt and other debris. Removed seeds should be bagged and disposed in a ‘to landfill’ garbage bin.
URL:https://dev2.heysentrail.asn.au/walking-the-heysen-trail/walk-the-trail-with-friends/walk-calendar/end-to-end-minus-2-training-walk-2022/
CATEGORIES:End-to-End Minus 2
END:VEVENT
BEGIN:VEVENT
DTSTART;TZID=Australia/Adelaide:20220316T180000
DTEND;TZID=Australia/Adelaide:20220316T193000
DTSTAMP:20260420T175245
CREATED:20211024T212253Z
LAST-MODIFIED:20220309T034811Z
UID:10005859-1647453600-1647459000@dev2.heysentrail.asn.au
SUMMARY:Para Wirra - Lady Pearce Circuit
DESCRIPTION:This 5.0km circuit hike explores the former mine workings of Victoria Hill\, a scene of much activity in the late 1860s\, and descends into the South Para River. The lower sections of the trail\, in the south near the South Para River\, are particularly rewarding.\n\nThis hike begins from the carpark on Allendale Road near Bowden Cottage.\n\nDue to the fact that the park closes at sunset (which is 7.33 pm) we will need to be on the trail by 6pm to make sure we are off the trail before dusk.\n\nLady Pearce Circuit Hike\, Para Wirra\n\nBIOSECURITY MEASURES – Please ensure you thoroughly clean your footwear\, clothing\, walking poles and other equipment before and after each walk to remove all seeds\, dirt and other debris. Removed seeds should be bagged and disposed in a ‘to landfill’ garbage bin.
URL:https://dev2.heysentrail.asn.au/walking-the-heysen-trail/walk-the-trail-with-friends/walk-calendar/para-wirra-south-para-grand-hike-2022/
CATEGORIES:Summer Walks
END:VEVENT
BEGIN:VEVENT
DTSTART;TZID=Australia/Adelaide:20220319T073000
DTEND;TZID=Australia/Adelaide:20220319T120000
DTSTAMP:20260420T175245
CREATED:20220228T064951Z
LAST-MODIFIED:20220228T065520Z
UID:10005885-1647675000-1647691200@dev2.heysentrail.asn.au
SUMMARY:End to End Minus 2 Training Walk
DESCRIPTION:Join Julia and some of the Minus 2 team\, once again\, walking from Brook Reserve to Waterfall Gully Road\, up Pengana Spur\, Chinaman’s Track to Caro Track and down Mount Osmond to the cars. \nWalking about 4 hours so bring water and a snack for morning tea.\nBIOSECURITY MEASURES – Please ensure you thoroughly clean your footwear\, clothing\, walking poles and other equipment before and after each walk to remove all seeds\, dirt and other debris. Removed seeds should be bagged and disposed in a ‘to landfill’ garbage bin.
URL:https://dev2.heysentrail.asn.au/walking-the-heysen-trail/walk-the-trail-with-friends/walk-calendar/end-to-end-minus-2-training-walk-2022-2/
CATEGORIES:End-to-End Minus 2
END:VEVENT
BEGIN:VEVENT
DTSTART;VALUE=DATE:20220320
DTEND;VALUE=DATE:20220321
DTSTAMP:20260420T175245
CREATED:20211024T212830Z
LAST-MODIFIED:20220318T074944Z
UID:10005861-1647734400-1647820799@dev2.heysentrail.asn.au
SUMMARY:From the mountains to the sea\, Torrens Pt 3
DESCRIPTION:WALK 3 Sunday 20th March \nThebarton to the beach. Starting promptly at 7.30am. This is to beat any heat that may be there on the day.\n\nWe will not cancel due to heat policy.\n\nThis walk is the one that most closely resembles the fantastic dirt trails that we usually walk\, out in the bush.\nThe day I did a test walk\, frog croaking and bird life abounded.\n\nBIOSECURITY MEASURES – Please ensure you thoroughly clean your footwear\, clothing\, walking poles and other equipment before and after each walk to remove all seeds\, dirt and other debris. Removed seeds should be bagged and disposed in a ‘to landfill’ garbage bin.
URL:https://dev2.heysentrail.asn.au/walking-the-heysen-trail/walk-the-trail-with-friends/walk-calendar/torrens-pt-3-2021/
CATEGORIES:Trail Starter
END:VEVENT
BEGIN:VEVENT
DTSTART;VALUE=DATE:20220323
DTEND;VALUE=DATE:20220324
DTSTAMP:20260420T175245
CREATED:20211024T212514Z
LAST-MODIFIED:20220308T074815Z
UID:10005860-1647993600-1648079999@dev2.heysentrail.asn.au
SUMMARY:Patawalonga
DESCRIPTION:A brisk walk for the shorter days that includes early history of Glenelg\n\nBIOSECURITY MEASURES – Please ensure you thoroughly clean your footwear\, clothing\, walking poles and other equipment before and after each walk to remove all seeds\, dirt and other debris. Removed seeds should be bagged and disposed in a ‘to landfill’ garbage bin.
URL:https://dev2.heysentrail.asn.au/walking-the-heysen-trail/walk-the-trail-with-friends/walk-calendar/hallet-cove-2021/
CATEGORIES:Summer Walks
END:VEVENT
BEGIN:VEVENT
DTSTART;TZID=Australia/Adelaide:20220324T183000
DTEND;TZID=Australia/Adelaide:20220324T200000
DTSTAMP:20260420T175245
CREATED:20220217T030751Z
LAST-MODIFIED:20220324T015048Z
UID:10005876-1648146600-1648152000@dev2.heysentrail.asn.au
SUMMARY:Annual General Meeting 2022
DESCRIPTION:Friends of the Heysen Trail and Other Walking Trails Inc – Annual General Meeting 2022\n\nAgenda sent to financial members via Australia Post.\n\nMembers must register online to meet Covid requirements.\n\nPlease note that the Venue requires all attendees to be fully vaccinated.\n\n\nAlso note that due to Covid restrictions there will be no social event after the meeting.\n\nA Financial Member unable to attend the AGM but wishing to express a vote may give authority to another financial member attending the AGM for a “Proxy Vote” [i.e. to vote on their behalf ] as long as it is made in writing – as per Section 16 of The Friends Constitution.
URL:https://dev2.heysentrail.asn.au/walking-the-heysen-trail/walk-the-trail-with-friends/walk-calendar/annual-general-meeting-2022-2022/
CATEGORIES:Other
END:VEVENT
BEGIN:VEVENT
DTSTART;TZID=Australia/Adelaide:20220326T080000
DTEND;TZID=Australia/Adelaide:20220326T123000
DTSTAMP:20260420T175245
CREATED:20220308T074342Z
LAST-MODIFIED:20220325T044458Z
UID:10005892-1648281600-1648297800@dev2.heysentrail.asn.au
SUMMARY:End to End -2 Training Sturt Gorge
DESCRIPTION:Roller coaster crisscrossing Sturt Gorge. 3 to 4 hours\nBIOSECURITY MEASURES – Please ensure you thoroughly clean your footwear\, clothing\, walking poles and other equipment before and after each walk to remove all seeds\, dirt and other debris. Removed seeds should be bagged and disposed in a ‘to landfill’ garbage bin.
URL:https://dev2.heysentrail.asn.au/walking-the-heysen-trail/walk-the-trail-with-friends/walk-calendar/end-to-end-2-training-sturt-gorge-2022/
CATEGORIES:End-to-End Minus 2
END:VEVENT
BEGIN:VEVENT
DTSTART;TZID=Australia/Adelaide:20220328T100000
DTEND;TZID=Australia/Adelaide:20220328T143000
DTSTAMP:20260420T175245
CREATED:20220327T221712Z
LAST-MODIFIED:20220327T223744Z
UID:10005163-1648461600-1648477800@dev2.heysentrail.asn.au
SUMMARY:Office Volunteers Information Day
DESCRIPTION:Office Training Day\, Pilgrim Hall
URL:https://dev2.heysentrail.asn.au/walking-the-heysen-trail/walk-the-trail-with-friends/walk-calendar/office-volunteers-information-day-2022/
CATEGORIES:Other
END:VEVENT
END:VCALENDAR