BEGIN:VCALENDAR
VERSION:2.0
PRODID:-//Friends of the Heysen Trail - ECPv6.15.20//NONSGML v1.0//EN
CALSCALE:GREGORIAN
METHOD:PUBLISH
X-WR-CALNAME:Friends of the Heysen Trail
X-ORIGINAL-URL:https://dev2.heysentrail.asn.au
X-WR-CALDESC:Events for Friends of the Heysen Trail
REFRESH-INTERVAL;VALUE=DURATION:PT1H
X-Robots-Tag:noindex
X-PUBLISHED-TTL:PT1H
BEGIN:VTIMEZONE
TZID:Australia/Adelaide
BEGIN:STANDARD
TZOFFSETFROM:+1030
TZOFFSETTO:+0930
TZNAME:ACST
DTSTART:20210403T163000
END:STANDARD
BEGIN:DAYLIGHT
TZOFFSETFROM:+0930
TZOFFSETTO:+1030
TZNAME:ACDT
DTSTART:20211002T163000
END:DAYLIGHT
BEGIN:STANDARD
TZOFFSETFROM:+1030
TZOFFSETTO:+0930
TZNAME:ACST
DTSTART:20220402T163000
END:STANDARD
BEGIN:DAYLIGHT
TZOFFSETFROM:+0930
TZOFFSETTO:+1030
TZNAME:ACDT
DTSTART:20221001T163000
END:DAYLIGHT
BEGIN:STANDARD
TZOFFSETFROM:+1030
TZOFFSETTO:+0930
TZNAME:ACST
DTSTART:20230401T163000
END:STANDARD
BEGIN:DAYLIGHT
TZOFFSETFROM:+0930
TZOFFSETTO:+1030
TZNAME:ACDT
DTSTART:20230930T163000
END:DAYLIGHT
END:VTIMEZONE
BEGIN:VEVENT
DTSTART;TZID=Australia/Adelaide:20220202T180000
DTEND;TZID=Australia/Adelaide:20220202T200000
DTSTAMP:20260420T190918
CREATED:20211024T210848Z
LAST-MODIFIED:20220107T041450Z
UID:10005854-1643824800-1643832000@dev2.heysentrail.asn.au
SUMMARY:East Parklands
DESCRIPTION:A pleasant\, mostly shady\, loop walk through the East Parklands and Botanic Garden area.\n\nBIOSECURITY MEASURES – Please ensure you thoroughly clean your footwear\, clothing\, walking poles and other equipment before and after each walk to remove all seeds\, dirt and other debris. Removed seeds should be bagged and disposed in a ‘to landfill’ garbage bin.
URL:https://dev2.heysentrail.asn.au/walking-the-heysen-trail/walk-the-trail-with-friends/walk-calendar/east-parklands-2021/
CATEGORIES:Summer Walks
END:VEVENT
BEGIN:VEVENT
DTSTART;VALUE=DATE:20220208
DTEND;VALUE=DATE:20220209
DTSTAMP:20260420T190918
CREATED:20220119T043001Z
LAST-MODIFIED:20220207T114443Z
UID:10005149-1644278400-1644364799@dev2.heysentrail.asn.au
SUMMARY:Shepherds Hill Rec Park
DESCRIPTION:A quiet evening amble around Shepherd Hill Recreation Park\, a small patch of green in suburbia offering views of the surrounding Adelaide plains\, coastline and hills.  Mostly flat easy walk with a few “ups”. Join us for dinner afterwards (optional) at Balthazar Cafe\, Pasadena Green Shopping Centre.\nThe carpark is located off Ayliffes Road\, easier access to avoid the concrete ups and downs (South Road maze) is to travel south via Goodwood Road/Fiveash Drive/Ayliffes Road.
URL:https://dev2.heysentrail.asn.au/walking-the-heysen-trail/walk-the-trail-with-friends/walk-calendar/shepherds-hill-rec-park-2022-2/
CATEGORIES:Summer Walks
END:VEVENT
BEGIN:VEVENT
DTSTART;TZID=Australia/Adelaide:20220209T180000
DTEND;TZID=Australia/Adelaide:20220209T194500
DTSTAMP:20260420T190918
CREATED:20211022T115106Z
LAST-MODIFIED:20220127T003214Z
UID:10005127-1644429600-1644435900@dev2.heysentrail.asn.au
SUMMARY:Port Adelaide Wonder Walls and Bridges
DESCRIPTION:Walk the bridges of Port Adelaide and wonder at the Wonder Walls\nBIOSECURITY MEASURES – Please ensure you thoroughly clean your footwear\, clothing\, walking poles and other equipment before and after each walk to remove all seeds\, dirt and other debris. Removed seeds should be bagged and disposed in a ‘to landfill’ garbage bin.
URL:https://dev2.heysentrail.asn.au/walking-the-heysen-trail/walk-the-trail-with-friends/walk-calendar/port-adelaide-wonder-walls-and-bridges-2022/
CATEGORIES:Summer Walks
END:VEVENT
BEGIN:VEVENT
DTSTART;TZID=Australia/Adelaide:20220216T180000
DTEND;TZID=Australia/Adelaide:20220216T200000
DTSTAMP:20260420T190918
CREATED:20211024T211145Z
LAST-MODIFIED:20220216T032004Z
UID:10005855-1645034400-1645041600@dev2.heysentrail.asn.au
SUMMARY:Wild Dog Glen
DESCRIPTION:A walk into the hills above Mitcham.\n\nSteep and challenging in parts\n\nBIOSECURITY MEASURES – Please ensure you thoroughly clean your footwear\, clothing\, walking poles and other equipment before and after each walk to remove all seeds\, dirt and other debris. Removed seeds should be bagged and disposed in a ‘to landfill’ garbage bin.
URL:https://dev2.heysentrail.asn.au/walking-the-heysen-trail/walk-the-trail-with-friends/walk-calendar/wild-dog-glen-2022/
CATEGORIES:Summer Walks
END:VEVENT
BEGIN:VEVENT
DTSTART;TZID=Australia/Adelaide:20220219T130000
DTEND;TZID=Australia/Adelaide:20220219T170000
DTSTAMP:20260420T190918
CREATED:20211126T043348Z
LAST-MODIFIED:20220218T051928Z
UID:10005144-1645275600-1645290000@dev2.heysentrail.asn.au
SUMMARY:FOHT Planning 2022
DESCRIPTION:FRIENDS OF HEYSEN TRAIL – PLANNING 2022\n\nMembers of the Friends Council and Committees annual gathering to set priorities and coordinate our activity in 2022:\n\n 	budget and finance\n 	volunteer engagement\n 	trail work\,\n 	office management\n 	walk program\n 	membership and promotion.\n\nInterested members and volunteers are welcome to attend.  Event Registration on-line is essential to manage covid-safety.  Please note that the event may be amended or cancelled at short notice if necessary to comply with any SA Health requirements.  Registered attendees will be advised about specific Covid Requirements at the venue prior to the event.\n\nFollowing consideration of the current covid risk at social activities\, FOHT has decided not to proceed with invitations to a meal after the planning afternoon.
URL:https://dev2.heysentrail.asn.au/walking-the-heysen-trail/walk-the-trail-with-friends/walk-calendar/foht-planning-2022/
CATEGORIES:Other
END:VEVENT
BEGIN:VEVENT
DTSTART;TZID=Australia/Adelaide:20220223T180000
DTEND;TZID=Australia/Adelaide:20220223T200000
DTSTAMP:20260420T190918
CREATED:20211023T034042Z
LAST-MODIFIED:20220220T055145Z
UID:10005130-1645639200-1645646400@dev2.heysentrail.asn.au
SUMMARY:Semaphore Hysterical/ Beach Walk
DESCRIPTION:This walk is hysterical\, as I have no idea what or where we may walk. We may do the trundle around the back streets of Semaphore OR we may do a beach\, walk to Largs North and see what’s happening at Fort Largs. Whatever it will be an easy stroll.\nBIOSECURITY MEASURES – Please ensure you thoroughly clean your footwear\, clothing\, walking poles and other equipment before and after each walk to remove all seeds\, dirt and other debris. Removed seeds should be bagged and disposed in a ‘to landfill’ garbage bin.
URL:https://dev2.heysentrail.asn.au/walking-the-heysen-trail/walk-the-trail-with-friends/walk-calendar/semaphore-hysterical-beach-walk-2022/
CATEGORIES:Summer Walks
END:VEVENT
BEGIN:VEVENT
DTSTART;VALUE=DATE:20220227
DTEND;VALUE=DATE:20220228
DTSTAMP:20260420T190918
CREATED:20211024T211424Z
LAST-MODIFIED:20220219T005007Z
UID:10005856-1645920000-1646006399@dev2.heysentrail.asn.au
SUMMARY:From the mountains to the sea\, along the Torrens Pt 2
DESCRIPTION:Walk section 2\nFelixtow to Thebarton\n\nSunday 27th of February\, again an early start to try and beat the heat\, walk starting promptly at 7.30am .\n\nAn easy relaxed 10-11k mostly flat walk\, will see us enjoying some of the best scenery that our city can offer.\nThis easy section is just stunning\, we will enjoy the lovely gardens planted by our Adelaide city council gardeners\, stunning views of Adelaide Oval and the new Casino hotel\, plus the remodelled railway station entrance & convention centre deck.\n\nTo enhance our viewing pleasure we will then cross Adelaide’s Gold plated foot bridge to Pinky flat so that we get the best scenery possible.\n\nWhile in the area\, if there is a food or coffee ☕ van\, we will stop and rest allowing us to enjoy our selves.\n\nThen we will cross back again over at the Torrens weir\n\nAfter returning to our cars I intend to go for a coffee Plant4 Bowden.\n\nAs an organisation we are not promoting food or coffee gatherings at this time  due to Covid.\n\nPlease remember your water and sunscreen\, hat and 😁 ( note to self ) Bus pass.\n\nBIOSECURITY MEASURES – Please ensure you thoroughly clean your footwear\, clothing\, walking poles and other equipment before and after each walk to remove all seeds\, dirt and other debris. Removed seeds should be bagged and disposed in a ‘to landfill’ garbage bin.
URL:https://dev2.heysentrail.asn.au/walking-the-heysen-trail/walk-the-trail-with-friends/walk-calendar/torrens-pt-2-2021/
CATEGORIES:Trail Starter
END:VEVENT
BEGIN:VEVENT
DTSTART;VALUE=DATE:20220227
DTEND;VALUE=DATE:20220228
DTSTAMP:20260420T190918
CREATED:20220216T031756Z
LAST-MODIFIED:20220216T033029Z
UID:10005153-1645920000-1646006399@dev2.heysentrail.asn.au
SUMMARY:End 2 End Minus 2 Training Walk
DESCRIPTION:Join Julia McLachlan and the Minus 2 walk leaders on a training walk around Cleland\, walking from the meeting location to Waterfall Gully Rd\, Chambers Gully\, Steub Track and return.\nThe walk take about 4 hours\, so bring a snack\, plenty of water\, sunscreen\, hat and a sense of humour.\n\nBIOSECURITY MEASURES – Please ensure you thoroughly clean your footwear\, clothing\, walking poles and other equipment before and after each walk to remove all seeds\, dirt and other debris. Removed seeds should be bagged and disposed in a ‘to landfill’ garbage bin.
URL:https://dev2.heysentrail.asn.au/walking-the-heysen-trail/walk-the-trail-with-friends/walk-calendar/end-2-end-minus-2-training-walk-2022/
CATEGORIES:End-to-End Minus 2
END:VEVENT
END:VCALENDAR