BEGIN:VCALENDAR
VERSION:2.0
PRODID:-//Friends of the Heysen Trail - ECPv6.15.20//NONSGML v1.0//EN
CALSCALE:GREGORIAN
METHOD:PUBLISH
X-ORIGINAL-URL:https://dev2.heysentrail.asn.au
X-WR-CALDESC:Events for Friends of the Heysen Trail
REFRESH-INTERVAL;VALUE=DURATION:PT1H
X-Robots-Tag:noindex
X-PUBLISHED-TTL:PT1H
BEGIN:VTIMEZONE
TZID:Australia/Adelaide
BEGIN:STANDARD
TZOFFSETFROM:+1030
TZOFFSETTO:+0930
TZNAME:ACST
DTSTART:20200404T163000
END:STANDARD
BEGIN:DAYLIGHT
TZOFFSETFROM:+0930
TZOFFSETTO:+1030
TZNAME:ACDT
DTSTART:20201003T163000
END:DAYLIGHT
BEGIN:STANDARD
TZOFFSETFROM:+1030
TZOFFSETTO:+0930
TZNAME:ACST
DTSTART:20210403T163000
END:STANDARD
BEGIN:DAYLIGHT
TZOFFSETFROM:+0930
TZOFFSETTO:+1030
TZNAME:ACDT
DTSTART:20211002T163000
END:DAYLIGHT
BEGIN:STANDARD
TZOFFSETFROM:+1030
TZOFFSETTO:+0930
TZNAME:ACST
DTSTART:20220402T163000
END:STANDARD
BEGIN:DAYLIGHT
TZOFFSETFROM:+0930
TZOFFSETTO:+1030
TZNAME:ACDT
DTSTART:20221001T163000
END:DAYLIGHT
END:VTIMEZONE
BEGIN:VEVENT
DTSTART;VALUE=DATE:20211201
DTEND;VALUE=DATE:20211202
DTSTAMP:20260420T175241
CREATED:20211117T061025Z
LAST-MODIFIED:20211123T212055Z
UID:10005142-1638316800-1638403199@dev2.heysentrail.asn.au
SUMMARY:Onkaparinga Wetlands Area
DESCRIPTION:A loop walk around the Wetlands and Onkaparinga River\, East of the Seaford Railway line.\n\nBIOSECURITY MEASURES – Please ensure you thoroughly clean your footwear\, clothing\, walking poles and other equipment before and after each walk to remove all seeds\, dirt and other debris. Removed seeds should be bagged and disposed in a ‘to landfill’ garbage bin.
URL:https://dev2.heysentrail.asn.au/walking-the-heysen-trail/walk-the-trail-with-friends/walk-calendar/onkaparinga-wetlands-area-2021-2/
CATEGORIES:Summer Walks
END:VEVENT
BEGIN:VEVENT
DTSTART;VALUE=DATE:20211208
DTEND;VALUE=DATE:20211209
DTSTAMP:20260420T175241
CREATED:20210919T215853Z
LAST-MODIFIED:20211118T103956Z
UID:10005095-1638921600-1639007999@dev2.heysentrail.asn.au
SUMMARY:Brownhill / Springwood Park & Waite CP
DESCRIPTION:Starting with going up Brown Hill\, we will take our time to admire the city views before venturing into Springwood Park. Exploring this area of beautiful large gum trees\, more views and rolling hills. We will loop back to return to Brown Hill\, then venture through Waite Conservation Reserve along the Yurrebilla Trail to return to our cars.\nOptional dinner at nearby Torrens Arms Hotel\, some areas loose surface\, bring poles if you have them.
URL:https://dev2.heysentrail.asn.au/walking-the-heysen-trail/walk-the-trail-with-friends/walk-calendar/brownhill-springwood-park-waite-2021/
CATEGORIES:Summer Walks
END:VEVENT
BEGIN:VEVENT
DTSTART;TZID=Australia/Adelaide:20211216T080000
DTEND;TZID=Australia/Adelaide:20211216T100000
DTSTAMP:20260420T175241
CREATED:20211001T120636Z
LAST-MODIFIED:20211206T091906Z
UID:10005833-1639641600-1639648800@dev2.heysentrail.asn.au
SUMMARY:Pt Noarlunga Beach & River Loop
DESCRIPTION:MORNING wander through the local area of Port Noarlunga: a place that retains a village feel\, then follow the Onkaparinga River\, across a footbridge to the mouth and concluding with a stroll along the beach. Approx 6km subject to weather.\n\nPlease ensure you bring water\, hat and sunscreen. Bathers & towel may also be useful to cool down at the end.
URL:https://dev2.heysentrail.asn.au/walking-the-heysen-trail/walk-the-trail-with-friends/walk-calendar/pt-noarlunga-beachriver-loop-2021/
CATEGORIES:Summer Walks
END:VEVENT
END:VCALENDAR