BEGIN:VCALENDAR
VERSION:2.0
PRODID:-//Friends of the Heysen Trail - ECPv6.15.20//NONSGML v1.0//EN
CALSCALE:GREGORIAN
METHOD:PUBLISH
X-ORIGINAL-URL:https://dev2.heysentrail.asn.au
X-WR-CALDESC:Events for Friends of the Heysen Trail
REFRESH-INTERVAL;VALUE=DURATION:PT1H
X-Robots-Tag:noindex
X-PUBLISHED-TTL:PT1H
BEGIN:VTIMEZONE
TZID:Australia/Adelaide
BEGIN:STANDARD
TZOFFSETFROM:+1030
TZOFFSETTO:+0930
TZNAME:ACST
DTSTART:20200404T163000
END:STANDARD
BEGIN:DAYLIGHT
TZOFFSETFROM:+0930
TZOFFSETTO:+1030
TZNAME:ACDT
DTSTART:20201003T163000
END:DAYLIGHT
BEGIN:STANDARD
TZOFFSETFROM:+1030
TZOFFSETTO:+0930
TZNAME:ACST
DTSTART:20210403T163000
END:STANDARD
BEGIN:DAYLIGHT
TZOFFSETFROM:+0930
TZOFFSETTO:+1030
TZNAME:ACDT
DTSTART:20211002T163000
END:DAYLIGHT
BEGIN:STANDARD
TZOFFSETFROM:+1030
TZOFFSETTO:+0930
TZNAME:ACST
DTSTART:20220402T163000
END:STANDARD
BEGIN:DAYLIGHT
TZOFFSETFROM:+0930
TZOFFSETTO:+1030
TZNAME:ACDT
DTSTART:20221001T163000
END:DAYLIGHT
END:VTIMEZONE
BEGIN:VEVENT
DTSTART;TZID=Australia/Adelaide:20211103T180000
DTEND;TZID=Australia/Adelaide:20211103T200000
DTSTAMP:20260420T191008
CREATED:20210922T033933Z
LAST-MODIFIED:20211024T004748Z
UID:10005099-1635962400-1635969600@dev2.heysentrail.asn.au
SUMMARY:Springfield-Waite
DESCRIPTION:A suburban hike through leafy (but rather hilly) Springfield\, skirting Carrick Hill and Waite Conservation Park with a smidge of the Yurrebilla Trail.\n\nExcellent views of the city if the weather is clear.
URL:https://dev2.heysentrail.asn.au/walking-the-heysen-trail/walk-the-trail-with-friends/walk-calendar/springfield-waite-2021/
CATEGORIES:Summer Walks
END:VEVENT
BEGIN:VEVENT
DTSTART;TZID=Australia/Adelaide:20211110T180000
DTEND;TZID=Australia/Adelaide:20211110T200000
DTSTAMP:20260420T191008
CREATED:20210919T215522Z
LAST-MODIFIED:20211110T001948Z
UID:10005093-1636567200-1636574400@dev2.heysentrail.asn.au
SUMMARY:Brown Hill / Springwood Park & Wirraparinga Loop
DESCRIPTION:Exploring trails in the Mitcham / Brown Hill area\, we will ascend Brown Hill\, taking our time for breaks and to admire the city views\, before venturing into Springwood Park to follow the trail down the eastern side of Brown Hill\, some sections of narrow trail and loose underfoot.  Crossing Brownhill Creek we join the Wirraparinga Loop for a pleasant (and flat) return back to our cars.
URL:https://dev2.heysentrail.asn.au/walking-the-heysen-trail/walk-the-trail-with-friends/walk-calendar/wirraparinga-loop-2021/
CATEGORIES:Summer Walks
END:VEVENT
BEGIN:VEVENT
DTSTART;TZID=Australia/Adelaide:20211118T080000
DTEND;TZID=Australia/Adelaide:20211118T100000
DTSTAMP:20260420T191008
CREATED:20211001T120230Z
LAST-MODIFIED:20211104T000353Z
UID:10005832-1637222400-1637229600@dev2.heysentrail.asn.au
SUMMARY:Old Noarlunga Loop
DESCRIPTION:A brisk morning wake up walk taking in the lower reaches of the Onkaparinga River and with a serious climb to deliver views across to the coast.  While its only about 4kms – approx 2 hours –  it offers an uphill challenge and some steep narrow sections.  Bring plenty of water\, sunscreen/hat and a snack. Gaiters are recommended given warmer weather creates potential for snakes in long grass.
URL:https://dev2.heysentrail.asn.au/walking-the-heysen-trail/walk-the-trail-with-friends/walk-calendar/old-noarlunga-loop-2021/
CATEGORIES:Summer Walks
END:VEVENT
BEGIN:VEVENT
DTSTART;TZID=Australia/Adelaide:20211124T180000
DTEND;TZID=Australia/Adelaide:20211124T194500
DTSTAMP:20260420T191008
CREATED:20211022T213317Z
LAST-MODIFIED:20211116T105635Z
UID:10005129-1637776800-1637783100@dev2.heysentrail.asn.au
SUMMARY:Torrens Linear Trail - Lockleys
DESCRIPTION:This walk winds along the River Torrens linear path. An easy 6 km walk\, with no hills.\n\nTake a relaxed winding pathway right along the River Torrens and enjoy the wildlife\, reed beds and gum trees abundant with birdlife.\n\n 
URL:https://dev2.heysentrail.asn.au/walking-the-heysen-trail/walk-the-trail-with-friends/walk-calendar/torrens-linear-trail-lockleys-2021/
CATEGORIES:Summer Walks
END:VEVENT
BEGIN:VEVENT
DTSTART;TZID=Australia/Adelaide:20211126T180000
DTEND;TZID=Australia/Adelaide:20211126T200000
DTSTAMP:20260420T191008
CREATED:20211011T030731Z
LAST-MODIFIED:20211125T064516Z
UID:10005840-1637949600-1637956800@dev2.heysentrail.asn.au
SUMMARY:Stirling golf club & dinner walk
DESCRIPTION:This approximately 9 to 10k return walk is in the Mt George natural scrub park area. Starting and finishing at the golf club.\n\nPlease be aware that there was a very low uptake for dinner.\n\nSo the walk will be a little longer with a rest/snack\, toilet stop.\n\nAlso a torch or headlamp may be needed to complete the walk.
URL:https://dev2.heysentrail.asn.au/walking-the-heysen-trail/walk-the-trail-with-friends/walk-calendar/outer-harbour-2021/
CATEGORIES:Summer Walks
END:VEVENT
BEGIN:VEVENT
DTSTART;TZID=Australia/Adelaide:20211128T120000
DTEND;TZID=Australia/Adelaide:20211128T160000
DTSTAMP:20260420T191008
CREATED:20210814T024005Z
LAST-MODIFIED:20211113T060802Z
UID:10005787-1638100800-1638115200@dev2.heysentrail.asn.au
SUMMARY:Xmas Gathering 2021
DESCRIPTION:The Friends Xmas Gathering for lunch at Port Adelaide’s\, Pirate Life brewery.\n\nPirate Life\, 18 Baker Street\, Port Adelaide\n\nBOOKINGS CLOSED 12 November 2021\n\nCome join in the fun and catch-up with fellow walkers for a Christmas celebration. Family & friends are welcome\n\n12pm to 4pm\, Sunday 28 November\n\nFood and 2 drinks (soft\, beer\, or wine) included\n\n$56 per person. (+ 50 cent booking fee)\n\nBooking: trybooking.com/815457\n\n“We serve our cocktail catering in a grazing style\, meaning everyone gets a piece of the action and we keep food coming throughout the function to keep everyone sensible!”
URL:https://dev2.heysentrail.asn.au/walking-the-heysen-trail/walk-the-trail-with-friends/walk-calendar/xmas-bash-2021/
LOCATION:Pirate Life brewery\, 18 Baker Street\, Port Adelaide\, South Australia\, 5015\, Australia
CATEGORIES:Other
GEO:-34.8450557;138.5104138
X-APPLE-STRUCTURED-LOCATION;VALUE=URI;X-ADDRESS=Pirate Life brewery 18 Baker Street Port Adelaide South Australia 5015 Australia;X-APPLE-RADIUS=500;X-TITLE=18 Baker Street:geo:138.5104138,-34.8450557
END:VEVENT
END:VCALENDAR