BEGIN:VCALENDAR
VERSION:2.0
PRODID:-//Friends of the Heysen Trail - ECPv6.15.20//NONSGML v1.0//EN
CALSCALE:GREGORIAN
METHOD:PUBLISH
X-ORIGINAL-URL:https://dev2.heysentrail.asn.au
X-WR-CALDESC:Events for Friends of the Heysen Trail
REFRESH-INTERVAL;VALUE=DURATION:PT1H
X-Robots-Tag:noindex
X-PUBLISHED-TTL:PT1H
BEGIN:VTIMEZONE
TZID:Australia/Adelaide
BEGIN:STANDARD
TZOFFSETFROM:+1030
TZOFFSETTO:+0930
TZNAME:ACST
DTSTART:20200404T163000
END:STANDARD
BEGIN:DAYLIGHT
TZOFFSETFROM:+0930
TZOFFSETTO:+1030
TZNAME:ACDT
DTSTART:20201003T163000
END:DAYLIGHT
BEGIN:STANDARD
TZOFFSETFROM:+1030
TZOFFSETTO:+0930
TZNAME:ACST
DTSTART:20210403T163000
END:STANDARD
BEGIN:DAYLIGHT
TZOFFSETFROM:+0930
TZOFFSETTO:+1030
TZNAME:ACDT
DTSTART:20211002T163000
END:DAYLIGHT
BEGIN:STANDARD
TZOFFSETFROM:+1030
TZOFFSETTO:+0930
TZNAME:ACST
DTSTART:20220402T163000
END:STANDARD
BEGIN:DAYLIGHT
TZOFFSETFROM:+0930
TZOFFSETTO:+1030
TZNAME:ACDT
DTSTART:20221001T163000
END:DAYLIGHT
END:VTIMEZONE
BEGIN:VEVENT
DTSTART;VALUE=DATE:20210703
DTEND;VALUE=DATE:20210704
DTSTAMP:20260421T043510
CREATED:20200919T020921Z
LAST-MODIFIED:20211123T001718Z
UID:10004995-1625270400-1625356799@dev2.heysentrail.asn.au
SUMMARY:Willunga Basin Trail
DESCRIPTION:The Willunga Basin Trail winds its way around and across the Willunga Basin for 130km: taking walkers through a diverse landscape of bushland\, forests\, vineyards\, almond groves\, parks and beaches. It links the townships of McLaren Vale\, McLaren Flat\, Kangarilla\, and Willunga to the suburbs of Aldinga\, Port Willunga\, Maslin Beach\, Moana and Seaford. It has been created and developed by volunteers. The Friends program aims to cover the loop over 6 walks.\n\nWALK 6: We will be walking through more remote parts of Onkaparinga National Park\, through Kangarilla to Ironbark Picnic Area\, Stagecoach Lane\, Kangarilla. 17km\n\nSufficient water for a day\, hat\, sunscreen and lunch are essential.\n\nPlease be aware of FOHT weather policies regarding cancellation of walks and adherence to Covid requirements. THIS WALK WILL USE A BUS so participants should use hand sanitiser and wear a face mask throughout the bus trip.
URL:https://dev2.heysentrail.asn.au/walking-the-heysen-trail/walk-the-trail-with-friends/walk-calendar/willunga-basin-trail-2021-4/
CATEGORIES:Willunga Basin Trail End-to-End
END:VEVENT
BEGIN:VEVENT
DTSTART;VALUE=DATE:20210704
DTEND;VALUE=DATE:20210705
DTSTAMP:20260421T043510
CREATED:20191021T104645Z
LAST-MODIFIED:20210718T110532Z
UID:10005628-1625356800-1625443199@dev2.heysentrail.asn.au
SUMMARY:Dashwood Gully - Mylor
DESCRIPTION:A picturesque walk through gently undulating farmland\, the northern blocks of Kuitpo Pine Forest and through the historic Jupiter Creek Goldfields.
URL:https://dev2.heysentrail.asn.au/walking-the-heysen-trail/walk-the-trail-with-friends/walk-calendar/dashwood-guly-mylor-2020/
CATEGORIES:End-to-End 14
END:VEVENT
BEGIN:VEVENT
DTSTART;VALUE=DATE:20210704
DTEND;VALUE=DATE:20210705
DTSTAMP:20260421T043510
CREATED:20200921T021200Z
LAST-MODIFIED:20210506T110905Z
UID:10004999-1625356800-1625443199@dev2.heysentrail.asn.au
SUMMARY:Mt Crawford
DESCRIPTION:A loop walk with steep climbs over Mt Crawford and Little Mt Crawford\, rewarding with excellent views. Then onto tracks through forest areas including a platform walk.
URL:https://dev2.heysentrail.asn.au/walking-the-heysen-trail/walk-the-trail-with-friends/walk-calendar/mt-crawford-2021/
CATEGORIES:Trail Walker
END:VEVENT
BEGIN:VEVENT
DTSTART;VALUE=DATE:20210707
DTEND;VALUE=DATE:20210708
DTSTAMP:20260421T043510
CREATED:20200921T021349Z
LAST-MODIFIED:20210612T065509Z
UID:10005000-1625616000-1625702399@dev2.heysentrail.asn.au
SUMMARY:O'Halloran Hill Rec Park
DESCRIPTION:A loop walk with a few short but steep climbs. Experience some great views of the coastline and the city.
URL:https://dev2.heysentrail.asn.au/walking-the-heysen-trail/walk-the-trail-with-friends/walk-calendar/ohalloran-hill-rec-park-2021/
CATEGORIES:Trail Walker
END:VEVENT
BEGIN:VEVENT
DTSTART;VALUE=DATE:20210708
DTEND;VALUE=DATE:20210709
DTSTAMP:20260421T043510
CREATED:20200907T074536Z
LAST-MODIFIED:20210620T235125Z
UID:10005713-1625702400-1625788799@dev2.heysentrail.asn.au
SUMMARY:Onkaparinga
DESCRIPTION:A Trail Starter in length\, but with uneven\, rocky\, slippery and undulating tracks.\n\nA circular walk in a small area of the Onkaparinga National Park passing through areas of native bush\, including pink gum and grey box woodland. We may see orchids\, kangaroos\, birds and echidna diggings.  As we make our way along some sections of the ridge top there is fabulous views of the gorge.
URL:https://dev2.heysentrail.asn.au/walking-the-heysen-trail/walk-the-trail-with-friends/walk-calendar/onkaparinga-2021-2/
CATEGORIES:Trail Starter
END:VEVENT
BEGIN:VEVENT
DTSTART;VALUE=DATE:20210708
DTEND;VALUE=DATE:20210718
DTSTAMP:20260421T043510
CREATED:20200804T105036Z
LAST-MODIFIED:20210607T004723Z
UID:10005688-1625702400-1626566399@dev2.heysentrail.asn.au
SUMMARY:E2E 10's Leigh Creek Rd (Old Wonoka) to Parachilna Gorge
DESCRIPTION:Our trip to the end of the trail!\n\nThis is a multi-day walk. Registration requires payment of the FULL BUS FEE.\n\nAccommodation and meal costs are not included.\n\nThere is limited accommodation still available at Rawnsley Park\, there are however three cabins in the caravan park on hold for participants on this walk. The cabins will be released to the public on the 28th June.\n\nThose registering are invited to travel on the bus\, at no extra cost\, from Adelaide to Rawnsley Park Station (Thursday July 8) and return to Adelaide (Saturday July 17).\n\nPassengers are asked to pack all clothing\, food etc into suit cases\, eskies and cardboard boxes.\n\nIf you choose to drive your own vehicle to the base location at Rawnsley Park you are still required to pay the bus fee.\n\nAccommodation and meal arrangements are the responsibility of each person registering.\n\nGroup meals are planned for Sunday July 11 (Sausage Sizzle) and Friday 16 July (Celebration Dinner)\n\nIf you are unable to walk for the specified 7 walk days comprising this multi-day event and you still wish to register\, contact the Friends’ office during operating hours.\n\nEnd to End 10 commenced walking the Heysen Trail on Sunday May 3 2015. This is the final set of walks ending at the Parachilna Trailhead on Friday July 16.\n\nBASE LOCATION: \n\nRawnsley Park Station\n\nThursday July 8\n\nFor those travelling by bus\, the departure time is 9.30 am from the Central Bus Station\, 85 Franklin Street\, Adelaide. Please be at the bus station at 9.00 am for loading.\n\nFriday July 9 (WALK 1 – Old Wonoka to Mt Little Stn)\n\nA classic Flinders Ranges creek walk\, the whole day is spent in Wonoka Creek which has been the site of a couple of major floods in recent years.\n\nSaturday July 10 (WALK 2 – Mt Little Stn to Moralana Dr)\n\nThis long section of the Trail (just over 30 kms) follows picturesque Mernmerna Creek and Slaty Creek to the Red Range campsite. After which it becomes a pretty walk with gentle undulations\, along creeklines and through native pine woodlands\, in the shadow of Elder Range and Mt Aleck.\n\nSunday July 11 (WALK 3 – Moralana Dr to Wilpena )\n\nThis is one of the very special walks of the Trail\, starting with a pretty creek walk through Black Gap\, before climbing the Pound Range to Bridle Gap\, where a look back provides spectacular views of Elder Range. Entering Flinders Range National Park\, it is a pleasant stroll across Wilpena Pound to complete the day.\n\nMonday July 12 (WALK 4 – Wilpena to Bunyeroo)\n\nThis walk is entirely within the Flinders Ranges National Park with much of the day spent following the Wilcolo Track between the ABC range and the towering peaks of Wilpena Pound.\n\nTuesday July 13 (REST DAY)\n\nWednesday July 14 (WALK 5 – Bunyeroo to Trezona)\n\nIn this section walkers climb from Bunyeroo Valley\, up to Yanyanna Hut\, passing several vantage points along the way that provide superb photo opportunities of the ranges behind. Continuing along Yanyanna Track\, the trail passes old settlers’ huts before entering the geologically significant Trezona area.\n\nThursday July 15 (WALK 6 – Trezona to Aroona Hut)\n\nThis section starts with a pleasant walk along Brachina and Enorama creeks past the Golden Spike and other significant geological sites\, before climbing to cross the ABC Range\, where spectacular views of the Heysen Range unfold.\n\nFriday July 16 (WALK 7 – Aroona Hut to Parachilna)\n\nThis final section of the trail follows Aroona Valley to the watershed dividing it from the Parachilna Creek catchment to the north. It then follows the valley between ABC Range and Heysen Range\, past abandoned mines to the final stile at the Parachilna Trailhead. This walk is a pleasant amble\, perfect for reflecting on the years and kilometres taken to get here\, and the friendships made along the way.\n\nThere will be celebration at the end of the walk followed by a celebration dinner at Rawnsley Park.\n\nSaturday July 17\n\nBus returns to Adelaide leaving Rawnsley Park at 8.30 am.
URL:https://dev2.heysentrail.asn.au/walking-the-heysen-trail/walk-the-trail-with-friends/walk-calendar/e2e-10s-old-wonoka-to-parachilna-gorge-2021/
CATEGORIES:End-to-End 10
END:VEVENT
BEGIN:VEVENT
DTSTART;VALUE=DATE:20210710
DTEND;VALUE=DATE:20210711
DTSTAMP:20260421T043510
CREATED:20191024T215405Z
LAST-MODIFIED:20210708T003208Z
UID:10004908-1625875200-1625961599@dev2.heysentrail.asn.au
SUMMARY:Walk 3: Tappanappa - Balquhidder
DESCRIPTION:A picturesque section highlighting the diversity of the Heysen Trail. Photo opportunities abound\, and you might even spot a whale.\n\nThis walk starts with spectacular views to Tunkalilla Beach followed by a picturesque walk through dense bushland before a steep descent to Boat Harbor Beach.\n\nThe very testing 4km walk along Tunkalilla Beach is followed by a very steep climb up to Balquidder which makes it a unique and very memorable section of the Heysen Trail.\n\n \n\n“PLEASE ENSURE THAT YOU USE HAND SANITIZER PRIOR TO BOARDING AND WEAR A FACE MASK THROUGHOUT THE BUS TRIP”
URL:https://dev2.heysentrail.asn.au/walking-the-heysen-trail/walk-the-trail-with-friends/walk-calendar/walk-3-tappanappa-balquhidder-2020/
CATEGORIES:End-to-End 15
END:VEVENT
BEGIN:VEVENT
DTSTART;VALUE=DATE:20210710
DTEND;VALUE=DATE:20210712
DTSTAMP:20260421T043510
CREATED:20200913T064024Z
LAST-MODIFIED:20210618T044528Z
UID:10005718-1625875200-1626047999@dev2.heysentrail.asn.au
SUMMARY:Springton-Keyneton-Truro
DESCRIPTION:This section of the trail follows a series of road reserves with a couple of attractive rocky areas and a ridge with extensive views to the east and west. On the Sunday we again follow a series of minor roads and picturesque road reserves and a follows a well preserved stone wall.
URL:https://dev2.heysentrail.asn.au/walking-the-heysen-trail/walk-the-trail-with-friends/walk-calendar/springton-keyneton-truro-2021/
CATEGORIES:End-to-End Lavender Trail
END:VEVENT
BEGIN:VEVENT
DTSTART;VALUE=DATE:20210711
DTEND;VALUE=DATE:20210712
DTSTAMP:20260421T043510
CREATED:20191022T024919Z
LAST-MODIFIED:20210710T043738Z
UID:10004906-1625961600-1626047999@dev2.heysentrail.asn.au
SUMMARY:Pewsey Vale - Tanunda
DESCRIPTION:This is an easy section of trail that runs through the northern section of Mt Crawford forests and through the native bushland of Kaiserstuhl Conservation Park with its unusual weathered rock features. Panoramic vistas over the Barossa Valley and Lower North are a highlight.
URL:https://dev2.heysentrail.asn.au/walking-the-heysen-trail/walk-the-trail-with-friends/walk-calendar/pewsey-vale-tanunda-2020/
CATEGORIES:End-to-End 13
END:VEVENT
BEGIN:VEVENT
DTSTART;VALUE=DATE:20210717
DTEND;VALUE=DATE:20210719
DTSTAMP:20260421T043510
CREATED:20191022T021442Z
LAST-MODIFIED:20210707T234322Z
UID:10004900-1626480000-1626652799@dev2.heysentrail.asn.au
SUMMARY:Dares Hill Summit Rd - Hallett - EE George Quarry
DESCRIPTION:Weekend based in Burra\n\nSat -The trail takes walkers past the historic Mt Bryan East School\, before beginning the climb up Mt Bryan. The highest peak in the Mount Lofty Ranges. Walkers are rewarded with panoramic views of the Mid North from the summit and as they descend through grazing and farming land towards Hallet.\n\nSun-A gentle undulating walk mainly along rural back roads and road reserves.The seasonally changing hues of the surrounding farmland makes this a unique and pleasant walk .\n\nIf you only want to walk for one day please ring the office to register once registrations have opened .\n\nUPON BOARDING THE BUS PLEASE USE HAND SANITISER AND WEAR FACE MASK FOR THE ENTIRITY OF BUS TRIP.
URL:https://dev2.heysentrail.asn.au/walking-the-heysen-trail/walk-the-trail-with-friends/walk-calendar/dares-hill-summit-rd-hallett-ee-george-quarry-2020/
CATEGORIES:End-to-End 12
END:VEVENT
BEGIN:VEVENT
DTSTART;TZID=Australia/Adelaide:20210718T083000
DTEND;TZID=Australia/Adelaide:20210718T120000
DTSTAMP:20260421T043510
CREATED:20210108T035349Z
LAST-MODIFIED:20210707T205802Z
UID:10005765-1626597000-1626609600@dev2.heysentrail.asn.au
SUMMARY:Hardys Scrub
DESCRIPTION:This is a loop walk\, walking to and through Hardy’s scrub.  You will see native flora and lovely overviews of the surrounding vineyards and hills.  There will be some sections of hill climbing\, but in the main will be gentle inclines and declines. \nThis walk will take approximately 3 1/2 hours.  You will need enclosed walking shoes/boots\, as we will be going through scrub\, as well as water and a hat.
URL:https://dev2.heysentrail.asn.au/walking-the-heysen-trail/walk-the-trail-with-friends/walk-calendar/hardys-scrub-2021/
CATEGORIES:Trail Starter
END:VEVENT
BEGIN:VEVENT
DTSTART;VALUE=DATE:20210724
DTEND;VALUE=DATE:20210725
DTSTAMP:20260421T043510
CREATED:20210721T042831Z
LAST-MODIFIED:20210721T044700Z
UID:10005048-1627084800-1627171199@dev2.heysentrail.asn.au
SUMMARY:Walk 4. Balquhidder - Waitpinga
DESCRIPTION: 
URL:https://dev2.heysentrail.asn.au/walking-the-heysen-trail/walk-the-trail-with-friends/walk-calendar/walk-4-balquhidder-waitpinga-2021/
CATEGORIES:End-to-End 15
END:VEVENT
BEGIN:VEVENT
DTSTART;VALUE=DATE:20210724
DTEND;VALUE=DATE:20210726
DTSTAMP:20260421T043510
CREATED:20210721T005249Z
LAST-MODIFIED:20210722T023237Z
UID:10005047-1627084800-1627257599@dev2.heysentrail.asn.au
SUMMARY:Alligator Gorge Rd - Horrocks Pass - Broadview E2E11
DESCRIPTION:This weekend is based in Melrose\n\nAny walker with Respiratory symptoms or fever should exclude themselves from any activity until they have received a negative COVID result\, irrespective of Vaccine Status. If there is no testing available(eg Country areas) then they should consult the nearest Medical Professional available(directly or by phone). If no consult is available they should exclude themselves from activity until 3 days after symptoms have settled.\n\nPlease ENSURE that you use HAND SANITIZER prior to Boarding and wear a FACE MASK throughout each Bus Trip over the weekend.\n\nNOTE –If you wish to walk on only one day\, please contact the FOHT office (once bookings have opened) to register for that day’s walk. The on–line registration system will only allow you to register for both days\n\nOn SATURDAY 24th JULY\n\nA terrific though challenging walk starting with a testing climb out of Horrocks Pass to the ridgetop followed by an undulating exposed traverse over gibber-littered hills and farmlands at times providing some stunning views over the Willochra Plains to the east and occasionally over Spencer Gulf to the west. At the end of the walk there is almost 3 klms walk-out from the Trail through farmlands back to our cars.\n\nOn SUNDAY 25th JULY\n\nCommencing with a brilliant little climb over Lavender Peak\, aptly named after principal architect of the Heysen Trail\, to get the heart pumping prior to a tricky descent to the picturesque Stony Creek campsite. From there the trail crisscrosses the creek(which at times has proven to be a challenge to cross)\, follows tracks\, backroads and a final undulating walk adjacent to the busy highway through Horrocks Pass to finish at the memorial to explorer John Horrocks.\n\nDinner on Saturday evening will be at the North Star Hotel from 7.00pm. Suggest we could meet for drinks from 6.30pm.
URL:https://dev2.heysentrail.asn.au/walking-the-heysen-trail/walk-the-trail-with-friends/walk-calendar/alligator-gorge-rd-horrocks-pass-broadview-e2e11-2021/
CATEGORIES:End-to-End 11
END:VEVENT
BEGIN:VEVENT
DTSTART;VALUE=DATE:20210724
DTEND;VALUE=DATE:20210726
DTSTAMP:20260421T043510
CREATED:20210802T224958Z
LAST-MODIFIED:20210802T225015Z
UID:10005052-1627084800-1627257599@dev2.heysentrail.asn.au
SUMMARY:Port Rickaby to Port Minlacowie to Point Turton
DESCRIPTION:
URL:https://dev2.heysentrail.asn.au/walking-the-heysen-trail/walk-the-trail-with-friends/walk-calendar/port-rickaby-to-port-minlacowie-to-point-turton-2021/
CATEGORIES:Walk the Yorke End-to-End
END:VEVENT
BEGIN:VEVENT
DTSTART;VALUE=DATE:20210724
DTEND;VALUE=DATE:20210802
DTSTAMP:20260421T043510
CREATED:20191018T073229Z
LAST-MODIFIED:20210721T035148Z
UID:10005573-1627084800-1627862399@dev2.heysentrail.asn.au
SUMMARY:End 2 End Minus 2 Dutchman's Stern to Murraytown Week 3
DESCRIPTION:The third week of our reverse traverse takes us from Dutchman’s Stern\, Woolshed Flat and Mount Brown through the Mount Remarkable Conservation Park to Melrose and finally Murraytown.\nAccommodation from Saturday 24th July until Wednesday 28th July in Quorn and transferring on the rest day to Melrose\, where we stay until bug out on Sunday\, 1st August 2021.
URL:https://dev2.heysentrail.asn.au/walking-the-heysen-trail/walk-the-trail-with-friends/walk-calendar/end-2-end-minus-2-warren-gorge-to-melrose-2020/
CATEGORIES:End-to-End Minus 2
END:VEVENT
BEGIN:VEVENT
DTSTART;VALUE=DATE:20210725
DTEND;VALUE=DATE:20210726
DTSTAMP:20260421T043510
CREATED:20210722T022918Z
LAST-MODIFIED:20210722T024322Z
UID:10005051-1627171200-1627257599@dev2.heysentrail.asn.au
SUMMARY:Mt Panorama/Knotts Hill loop walk
DESCRIPTION:
URL:https://dev2.heysentrail.asn.au/walking-the-heysen-trail/walk-the-trail-with-friends/walk-calendar/mt-panorama-knotts-hill-loop-walk-2021/
CATEGORIES:Trail Starter
END:VEVENT
END:VCALENDAR