BEGIN:VCALENDAR
VERSION:2.0
PRODID:-//Friends of the Heysen Trail - ECPv6.15.20//NONSGML v1.0//EN
CALSCALE:GREGORIAN
METHOD:PUBLISH
X-WR-CALNAME:Friends of the Heysen Trail
X-ORIGINAL-URL:https://dev2.heysentrail.asn.au
X-WR-CALDESC:Events for Friends of the Heysen Trail
REFRESH-INTERVAL;VALUE=DURATION:PT1H
X-Robots-Tag:noindex
X-PUBLISHED-TTL:PT1H
BEGIN:VTIMEZONE
TZID:Australia/Adelaide
BEGIN:STANDARD
TZOFFSETFROM:+1030
TZOFFSETTO:+0930
TZNAME:ACST
DTSTART:20200404T163000
END:STANDARD
BEGIN:DAYLIGHT
TZOFFSETFROM:+0930
TZOFFSETTO:+1030
TZNAME:ACDT
DTSTART:20201003T163000
END:DAYLIGHT
BEGIN:STANDARD
TZOFFSETFROM:+1030
TZOFFSETTO:+0930
TZNAME:ACST
DTSTART:20210403T163000
END:STANDARD
BEGIN:DAYLIGHT
TZOFFSETFROM:+0930
TZOFFSETTO:+1030
TZNAME:ACDT
DTSTART:20211002T163000
END:DAYLIGHT
BEGIN:STANDARD
TZOFFSETFROM:+1030
TZOFFSETTO:+0930
TZNAME:ACST
DTSTART:20220402T163000
END:STANDARD
BEGIN:DAYLIGHT
TZOFFSETFROM:+0930
TZOFFSETTO:+1030
TZNAME:ACDT
DTSTART:20221001T163000
END:DAYLIGHT
END:VTIMEZONE
BEGIN:VEVENT
DTSTART;TZID=Australia/Adelaide:20210106T180000
DTEND;TZID=Australia/Adelaide:20210106T203000
DTSTAMP:20260421T132944
CREATED:20201029T222621Z
LAST-MODIFIED:20210103T013000Z
UID:10005020-1609956000-1609965000@dev2.heysentrail.asn.au
SUMMARY:Wild Dog Glen
DESCRIPTION:A walk into the hills above Mitcham.\n\nSteep and challenging in parts
URL:https://dev2.heysentrail.asn.au/walking-the-heysen-trail/walk-the-trail-with-friends/walk-calendar/wild-dog-glen-2021/
CATEGORIES:Summer Walks
END:VEVENT
BEGIN:VEVENT
DTSTART;VALUE=DATE:20210115
DTEND;VALUE=DATE:20210116
DTSTAMP:20260421T132944
CREATED:20200906T224944Z
LAST-MODIFIED:20210114T074819Z
UID:10005698-1610668800-1610755199@dev2.heysentrail.asn.au
SUMMARY:Crafers-Mt Lofty Summit- Stirling night walk.
DESCRIPTION:This a partly night walk\, so a headlamp or similar is a requirement.\n\nWe will be walking from Crafers to the Mount Lofty summit\, via Stirling and numerous trails within the Cleland nature reserve.\n\nSunset on this day is at 8.30 pm so some walking in the dark will be a requirement.\n\nAlso the cafe at the summit will not be open\, so I suggest you bring some food along. We will spend 20 or 30 minutes up there. Giving us time for food.\n\nOur return will be via Cleland reserves\, then back to our vehicles.
URL:https://dev2.heysentrail.asn.au/walking-the-heysen-trail/walk-the-trail-with-friends/walk-calendar/crafers-mt-lofty-summit-2021/
CATEGORIES:Trail Walker,Summer Walks
END:VEVENT
BEGIN:VEVENT
DTSTART;TZID=Australia/Adelaide:20210121T180000
DTEND;TZID=Australia/Adelaide:20210121T193000
DTSTAMP:20260421T132944
CREATED:20210103T201634Z
LAST-MODIFIED:20210121T040132Z
UID:10005762-1611252000-1611257400@dev2.heysentrail.asn.au
SUMMARY:Torrens Linear Park (Lockleys) .... again
DESCRIPTION:Our November walk was defeated by the mini Covid lockdown\, but the pheonix arises.\n\nThis walk winds along the River Torrens linear path. An easy 6 km walk\, with no hills.\n\nA very pleasant stroll to get our legs back on the trail towards the walking season ahead.\n\nTake a relaxed winding pathway right along the River Torrens and enjoy the wildlife\, reed beds and gum trees abundant with birdlife.\n\nCan we hope for a cool breeze on a summer evening? You betcha. It is on order.
URL:https://dev2.heysentrail.asn.au/walking-the-heysen-trail/walk-the-trail-with-friends/walk-calendar/torrens-linear-walk-2021/
CATEGORIES:Summer Walks
END:VEVENT
BEGIN:VEVENT
DTSTART;TZID=Australia/Adelaide:20210127T180000
DTEND;TZID=Australia/Adelaide:20210127T194500
DTSTAMP:20260421T132944
CREATED:20201029T224132Z
LAST-MODIFIED:20210126T065840Z
UID:10005745-1611770400-1611776700@dev2.heysentrail.asn.au
SUMMARY:Semaphore Hysterical Walk
DESCRIPTION:Walk the back streets of Semaphore soaking up some of the history of this old suburb.
URL:https://dev2.heysentrail.asn.au/walking-the-heysen-trail/walk-the-trail-with-friends/walk-calendar/pt-adelaide-wonder-walls-pt-2-2021/
CATEGORIES:Summer Walks
END:VEVENT
END:VCALENDAR