BEGIN:VCALENDAR
VERSION:2.0
PRODID:-//The Friends of the Heysen Trail - ECPv6.15.20//NONSGML v1.0//EN
CALSCALE:GREGORIAN
METHOD:PUBLISH
X-WR-CALNAME:The Friends of the Heysen Trail
X-ORIGINAL-URL:https://dev2.heysentrail.asn.au
X-WR-CALDESC:Events for The Friends of the Heysen Trail
REFRESH-INTERVAL;VALUE=DURATION:PT1H
X-Robots-Tag:noindex
X-PUBLISHED-TTL:PT1H
BEGIN:VTIMEZONE
TZID:Australia/Adelaide
BEGIN:STANDARD
TZOFFSETFROM:+1030
TZOFFSETTO:+0930
TZNAME:ACST
DTSTART:20190406T163000
END:STANDARD
BEGIN:DAYLIGHT
TZOFFSETFROM:+0930
TZOFFSETTO:+1030
TZNAME:ACDT
DTSTART:20191005T163000
END:DAYLIGHT
BEGIN:STANDARD
TZOFFSETFROM:+1030
TZOFFSETTO:+0930
TZNAME:ACST
DTSTART:20200404T163000
END:STANDARD
BEGIN:DAYLIGHT
TZOFFSETFROM:+0930
TZOFFSETTO:+1030
TZNAME:ACDT
DTSTART:20201003T163000
END:DAYLIGHT
BEGIN:STANDARD
TZOFFSETFROM:+1030
TZOFFSETTO:+0930
TZNAME:ACST
DTSTART:20210403T163000
END:STANDARD
BEGIN:DAYLIGHT
TZOFFSETFROM:+0930
TZOFFSETTO:+1030
TZNAME:ACDT
DTSTART:20211002T163000
END:DAYLIGHT
END:VTIMEZONE
BEGIN:VEVENT
DTSTART;VALUE=DATE:20200902
DTEND;VALUE=DATE:20200903
DTSTAMP:20260421T155142
CREATED:20191113T053656Z
LAST-MODIFIED:20200813T114052Z
UID:10005649-1599004800-1599091199@dev2.heysentrail.asn.au
SUMMARY:Marion Coastal Walk
DESCRIPTION:This is a mid week morning walk to help maintain some fitness.\n\nThe Marion Coastal Walkway is located in the Marion Coast Park which extends 7.2 km from Marino in the north\, to the Hallett Headland Reserve at Hallett Cove in the south.\n\nIts environment is unique in the metropolitan area\, with its rugged cliffs\, small coves and a rocky coast.\n\nIt also features world famous geological formations at Hallett Cove\, important sites of remnant coastal vegetation\, and the significant cultural presence of the Tjilbruke Dreaming. Discover more in the Coastal Walkway brochure.\n\nhttps://cdn.marion.sa.gov.au/sp/Coastal-Walks-Brochure.pdf?mtime=20180226123542\n\nAbout 2km of this walk is closed but has bypass route.\n\nWalk will be about 12-14 km in length.
URL:https://dev2.heysentrail.asn.au/walking-the-heysen-trail/walk-the-trail-with-friends/walk-calendar/marion-coastal-walk-2020-6/
CATEGORIES:Trail Walker
END:VEVENT
BEGIN:VEVENT
DTSTART;TZID=Australia/Adelaide:20200903T090000
DTEND;TZID=Australia/Adelaide:20200903T140000
DTSTAMP:20260421T155142
CREATED:20200810T075625Z
LAST-MODIFIED:20200810T075626Z
UID:10005693-1599123600-1599141600@dev2.heysentrail.asn.au
SUMMARY:Friends Shed Maintenance Day – Cobbler Creek
DESCRIPTION:Maintenance Days at the Friends Shed at Cobbler Creek.\n\nVolunteers are welcome to join in. You don’t have to be an expert handy person.\n\nPlease register so we can anticipate numbers and plan jobs.
URL:https://dev2.heysentrail.asn.au/walking-the-heysen-trail/walk-the-trail-with-friends/walk-calendar/friends-shed-maintenance-day-cobbler-creek-2020-22/
CATEGORIES:Friends Shed Maintenance Day
END:VEVENT
BEGIN:VEVENT
DTSTART;VALUE=DATE:20200905
DTEND;VALUE=DATE:20200906
DTSTAMP:20260421T155142
CREATED:20191019T041446Z
LAST-MODIFIED:20200828T105115Z
UID:10005616-1599264000-1599350399@dev2.heysentrail.asn.au
SUMMARY:Para Wirra
DESCRIPTION:Walk through Parra Wirra Recreation Park and Barossa Goldfields to see the views from the ridges and the Devil’s nose\, and the old gold mine ruins. Look out for the local birdlife.\n\nSome undulations and one decent hill.\n\nPlease be aware of FoHT weather policies concerning cancellation of walks.\n\nRefer to COVID-19 requirements.
URL:https://dev2.heysentrail.asn.au/walking-the-heysen-trail/walk-the-trail-with-friends/walk-calendar/para-wirra-2020/
CATEGORIES:Trail Walker
END:VEVENT
BEGIN:VEVENT
DTSTART;VALUE=DATE:20200905
DTEND;VALUE=DATE:20200906
DTSTAMP:20260421T155142
CREATED:20200120T011346Z
LAST-MODIFIED:20200831T215511Z
UID:10004931-1599264000-1599350399@dev2.heysentrail.asn.au
SUMMARY:The Best Of Two
DESCRIPTION:Joining parts of walks 4&5 of the Heysen Trail together you get to experience the rolling green hills \,the lovely beaches and the towering cliffs of the majestic Fleurieu Peninsula.A longish day on the trail but a cracking walk .\n\nA bus will be used to get to start of walk .\n\nPlease be aware of FOHT weather Policies concerning cancellation of walks\n\nPlease  Note-Hand sanitiser must be used before & after being on bus .A face mask must be worn throughout the journey on the bus .Both sanitiser and masks to be provided by the walker.
URL:https://dev2.heysentrail.asn.au/walking-the-heysen-trail/walk-the-trail-with-friends/walk-calendar/the-best-of-two-2020/
CATEGORIES:Trail Walker
END:VEVENT
BEGIN:VEVENT
DTSTART;VALUE=DATE:20200906
DTEND;VALUE=DATE:20200907
DTSTAMP:20260421T155142
CREATED:20191019T041541Z
LAST-MODIFIED:20200905T015559Z
UID:10005617-1599350400-1599436799@dev2.heysentrail.asn.au
SUMMARY:Cedars Pilgrimage
DESCRIPTION:This pilgrimage walk follows the Heysen Spur from Bridgewater to The Cedars along roads\, bushland\, gentle hills\, crosses the Adelaide main railway line & has views to rural properties of the Adelaide Hills. A leisurely BYO morning tea will be at The Cedars\, family property of Hans Heysen. There will be $5 fee to enter the property. We will then return via the same route.
URL:https://dev2.heysentrail.asn.au/walking-the-heysen-trail/walk-the-trail-with-friends/walk-calendar/cedars-pilgrimage-2020/
CATEGORIES:Trail Starter
END:VEVENT
BEGIN:VEVENT
DTSTART;VALUE=DATE:20200906
DTEND;VALUE=DATE:20200907
DTSTAMP:20260421T155142
CREATED:20191019T042119Z
LAST-MODIFIED:20200826T021856Z
UID:10005618-1599350400-1599436799@dev2.heysentrail.asn.au
SUMMARY:Brownhill
DESCRIPTION:A loop walk in the hills that starts behind the Waite Institute Campus and makes its way to Brownhill Creek via the Waite and Yurrebilla trails before the return that includes the Sheoak trail. There are opportunities for some great views across Adelaide and the plains. There is a testing ascent at Brownhill Creek so bring your climbing legs.\n\nThere will be a brief stop at a reserve near Carrick Hill for consumption of energy food and drinks if required (before the hill)\, then lunch/munch at the top.
URL:https://dev2.heysentrail.asn.au/walking-the-heysen-trail/walk-the-trail-with-friends/walk-calendar/brownhill-2020/
CATEGORIES:Trail Walker
END:VEVENT
BEGIN:VEVENT
DTSTART;VALUE=DATE:20200910
DTEND;VALUE=DATE:20200911
DTSTAMP:20260421T155142
CREATED:20191022T102143Z
LAST-MODIFIED:20200830T020935Z
UID:10005639-1599696000-1599782399@dev2.heysentrail.asn.au
SUMMARY:Ansteys Hill North
DESCRIPTION:This walk will commence on a marked trail in the north region of the park\, leading to great views and returning via fire track and trail to the meeting place.
URL:https://dev2.heysentrail.asn.au/walking-the-heysen-trail/walk-the-trail-with-friends/walk-calendar/ansteys-hill-east-2020/
CATEGORIES:Trail Starter
END:VEVENT
BEGIN:VEVENT
DTSTART;TZID=Australia/Adelaide:20200910T090000
DTEND;TZID=Australia/Adelaide:20200910T140000
DTSTAMP:20260421T155142
CREATED:20200810T075657Z
LAST-MODIFIED:20200813T023936Z
UID:10005694-1599728400-1599746400@dev2.heysentrail.asn.au
SUMMARY:Friends Shed Maintenance Day – Cobbler Creek
DESCRIPTION:Maintenance Days at the Friends Shed at Cobbler Creek.\n\nVolunteers are welcome to join in. You don’t have to be an expert handy person.\n\nPlease register so we can anticipate numbers and plan jobs.
URL:https://dev2.heysentrail.asn.au/walking-the-heysen-trail/walk-the-trail-with-friends/walk-calendar/friends-shed-maintenance-day-cobbler-creek-2020-23/
CATEGORIES:Friends Shed Maintenance Day
END:VEVENT
BEGIN:VEVENT
DTSTART;TZID=Australia/Adelaide:20200913T090000
DTEND;TZID=Australia/Adelaide:20200913T130000
DTSTAMP:20260421T155142
CREATED:20200727T000219Z
LAST-MODIFIED:20200911T110012Z
UID:10005684-1599987600-1600002000@dev2.heysentrail.asn.au
SUMMARY:Mack Creek
DESCRIPTION:A lovely walk taking in sections of Old Kersbrook Forest and the Blue Gum and Mack Creek tracks of Para Wirra Conservation Park.\n\nThe walk follows a range of trails – including well made fire tracks\, shared trails and a narrower\, more secluded track along Mack Creek.\n\nThe terrain is reasonably flat although there is a gentle descent into and ascent out of the creek. We will walk through blue gums and later box and pink gum forests.
URL:https://dev2.heysentrail.asn.au/walking-the-heysen-trail/walk-the-trail-with-friends/walk-calendar/mack-creek-2020-2/
CATEGORIES:Trail Starter
END:VEVENT
BEGIN:VEVENT
DTSTART;VALUE=DATE:20200916
DTEND;VALUE=DATE:20200917
DTSTAMP:20260421T155142
CREATED:20191019T042447Z
LAST-MODIFIED:20200701T052848Z
UID:10005621-1600214400-1600300799@dev2.heysentrail.asn.au
SUMMARY:Blackwood Reserve \ Belair
DESCRIPTION:This is a mid week morning walk to help maintain some fitness.\n\nWe will take a short stroll through back roads to Blackwood Forest reserve. The reserve is the site of the old Blackwood Experimental Orchard and details can be found on the following link:\n\nhttp://www.communitywebs.org/friendsofblackwoodforest/history.php\n\nFrom the reserve we will make our way up Turners Ave to a fire trail.\n\nFrom here we climb up Olave Hill to join Olave Hill Road which will lead us into Belair National Park.\n\nWe will do a couple of loop walks exiting the park to follow Minno Creek back to our starting point.\n\nWalk will be about 12-14 km in length
URL:https://dev2.heysentrail.asn.au/walking-the-heysen-trail/walk-the-trail-with-friends/walk-calendar/blackwood-reserve-belair-2020/
CATEGORIES:Trail Walker
END:VEVENT
BEGIN:VEVENT
DTSTART;VALUE=DATE:20200917
DTEND;VALUE=DATE:20200918
DTSTAMP:20260421T155144
CREATED:20200818T002940Z
LAST-MODIFIED:20200914T234307Z
UID:10004964-1600300800-1600387199@dev2.heysentrail.asn.au
SUMMARY:Onkaparinga Explorer TW
DESCRIPTION:Expand your horizons on trails less travelled within Onkaparinga NP.  This is a challenging walk of some 14-15km loop with descents to the river and accents up the gorge.  Initially walking down to the river\, the walk then climbs the gorge to pick up a section of the Willunga Basin Trail\, tracing edges of the park it then traverses less familiar tracks further up river. Testing your durability will be 3 water crossings:  walkers should be prepared with spare socks and hand towel depending on river levels.
URL:https://dev2.heysentrail.asn.au/walking-the-heysen-trail/walk-the-trail-with-friends/walk-calendar/onkaparinga-explorer-tw-2020/
CATEGORIES:Trail Walker
END:VEVENT
BEGIN:VEVENT
DTSTART;TZID=Australia/Adelaide:20200917T090000
DTEND;TZID=Australia/Adelaide:20200917T140000
DTSTAMP:20260421T155144
CREATED:20200810T233203Z
LAST-MODIFIED:20200810T233204Z
UID:10005695-1600333200-1600351200@dev2.heysentrail.asn.au
SUMMARY:Friends Shed Maintenance Day – Cobbler Creek
DESCRIPTION:Maintenance Days at the Friends Shed at Cobbler Creek.\n\nVolunteers are welcome to join in. You don’t have to be an expert handy person.\n\nPlease register so we can anticipate numbers and plan jobs.
URL:https://dev2.heysentrail.asn.au/walking-the-heysen-trail/walk-the-trail-with-friends/walk-calendar/friends-shed-maintenance-day-cobbler-creek-2020-24/
CATEGORIES:Friends Shed Maintenance Day
END:VEVENT
BEGIN:VEVENT
DTSTART;VALUE=DATE:20200919
DTEND;VALUE=DATE:20200920
DTSTAMP:20260421T155144
CREATED:20191019T042626Z
LAST-MODIFIED:20200910T062101Z
UID:10005622-1600473600-1600559999@dev2.heysentrail.asn.au
SUMMARY:Sir Mark Oliphant Park
DESCRIPTION:From the Heathfield Oval car park we cross Longwood Road onto Scott Creek Road before turning down Brick Kiln Road and up through the SA Water site into Mark Oliphant Con. Park. once in the Park we will follow a mix of trails\, fire tracks and off track scrambles within the park on both sides of Evans Drive before exiting back via SA Water and returning to the Oval.
URL:https://dev2.heysentrail.asn.au/walking-the-heysen-trail/walk-the-trail-with-friends/walk-calendar/sir-mark-oliphant-park-2020/
CATEGORIES:Trail Walker
END:VEVENT
BEGIN:VEVENT
DTSTART;VALUE=DATE:20200920
DTEND;VALUE=DATE:20200921
DTSTAMP:20260421T155144
CREATED:20191019T042720Z
LAST-MODIFIED:20200823T094425Z
UID:10004887-1600560000-1600646399@dev2.heysentrail.asn.au
SUMMARY:Lobethal Bushland Walk.
DESCRIPTION:Pleasant circular walk in Lobethal Bushland Park just outside of Lobethal. The trails in the park were through heritage-listed bush but the park was burnt out in the December 2019 Adelaide Hills bush fire. Through the care of passionate volunteers\, the park has been remarked and is showing signs of incredible regrowth. There are also exciting signs that kangaroos\, echidnas and bird life are returning. We will walk through trails which have been burnt\, but there are wonderful signs of regrowth on some of the trees and also the undergrowth. Slopes are mostly gradual. A good walk for new walkers and families\, with toilets and a picnic area on completion.
URL:https://dev2.heysentrail.asn.au/walking-the-heysen-trail/walk-the-trail-with-friends/walk-calendar/lobethal-2020/
CATEGORIES:Trail Starter
END:VEVENT
BEGIN:VEVENT
DTSTART;TZID=Australia/Adelaide:20200924T090000
DTEND;TZID=Australia/Adelaide:20200924T140000
DTSTAMP:20260421T155144
CREATED:20200812T040921Z
LAST-MODIFIED:20200812T040923Z
UID:10005696-1600938000-1600956000@dev2.heysentrail.asn.au
SUMMARY:Friends Shed Maintenance Day – Cobbler Creek
DESCRIPTION:Maintenance Days at the Friends Shed at Cobbler Creek.\n\nVolunteers are welcome to join in. You don’t have to be an expert handy person.\n\nPlease register so we can anticipate numbers and plan jobs.
URL:https://dev2.heysentrail.asn.au/walking-the-heysen-trail/walk-the-trail-with-friends/walk-calendar/friends-shed-maintenance-day-cobbler-creek-2020-25/
CATEGORIES:Friends Shed Maintenance Day
END:VEVENT
BEGIN:VEVENT
DTSTART;VALUE=DATE:20200926
DTEND;VALUE=DATE:20200927
DTSTAMP:20260421T155144
CREATED:20191019T035627Z
LAST-MODIFIED:20200925T035110Z
UID:10005615-1601078400-1601164799@dev2.heysentrail.asn.au
SUMMARY:Deep Creek Circuit
DESCRIPTION:A lovely hike in one of SA’s most beautiful Conservation Parks.\n\nHills\, views\, water and wildlife. What more do you want in a hike? It takes you down into Deep Creek Cove and onto the Deep Creek waterfall.\n\n\n\nMorning tea spot\n\nHealth warning: the first 3kms are mostly vertical\, and can be slippery when wet. Some clambering over rocks required. A good level of fitness is necessary. (The view and the rest of the walk is worth it though)\n\nCost warning: The meeting spot is inside the Deep Creek Conservation Park. A day pass of $11 per car is required. These can be bought at www.parks.sa.gov.au (no payment available at the park entrance)\, and can be purchased ahead of time.
URL:https://dev2.heysentrail.asn.au/walking-the-heysen-trail/walk-the-trail-with-friends/walk-calendar/deep-creek-circuit-2020/
CATEGORIES:Trail Walker
END:VEVENT
BEGIN:VEVENT
DTSTART;TZID=Australia/Adelaide:20200927T091500
DTEND;TZID=Australia/Adelaide:20200927T123000
DTSTAMP:20260421T155144
CREATED:20200808T002749Z
LAST-MODIFIED:20200925T080749Z
UID:10005690-1601198100-1601209800@dev2.heysentrail.asn.au
SUMMARY:Monarto/ Walk With The Animals
DESCRIPTION:This walk is a little different insofar that you must book our walk first\, then contact Zoos.SA to purchase your ticket into the park..\nWe are opening bookings early to ensure you get an entry ticket to the park.\nThe walk itself is an easy 9-10klms\, mostly on flat ground tracks.\n\nBookings at the Wildlife Park\, Sunday the 27th of September\, open the same day as our registration opens.\nCopy the following link into your browser to book your admission. You will be able to claim any concession/membership that applies to you.:\n\nTickets\n\nI ask then that you then forward your Zoos ticket number to me.\nMy details will be in the meeting point information .\n\nWe will walk the loop through the 5000 acres of scrub they have.\nFrom which there are connecting tracks to the viewing spots.\nI recommend you bring a good camera / small binoculars.\nAlso water \, snack and sunscreen.\n\nAs it is a loop walk\, my plan is to be back at the information office/canteen for lunch about 12.30pm Sunday the 27th of September.\nThis will allow you then to take advantage of the included bus services that the park offers.\nThose busses leave from 1.15pm
URL:https://dev2.heysentrail.asn.au/walking-the-heysen-trail/walk-the-trail-with-friends/walk-calendar/monarto-walk-with-the-animals-2020/
CATEGORIES:Trail Starter
END:VEVENT
END:VCALENDAR